Workbook

Sheet Rekapitulácia stavby
A1: Export Komplet | BA1: 2.0 | BB1: ZAMOK | BT1: False | BU1: False | BV1: {e2b45afd-727e-44d5-9a86-98bbb95b9aee}
BS2: 0,01 | BT2: 23
BS3: 0,01 | BT3: 23
D4: REKAPITULÁCIA STAVBY | AS4: v --- nižšie sa nachádzajú doplnkové a pomocné údaje k zostavám --- v | BE4: Návod na vyplnenie | BS4: 0,001
D5: Kód: | K5: 0126 | BE5: Meniť je možné iba bunky so žltým podfarbením!_x000D_ _x000D_ 1) na prvom liste Rekapitulácie stavby vyplňte v zostave_x000D_ _x000D_ a) Rekapitulácia stavby_x000D_ - údaje o Zhotoviteľovi_x000D_ (prenesú sa do ostatných zostáv aj v iných listoch)_x000D_ _x000D_ b) Rekapitulácia objektov stavby_x000D_ - potrebné Ostatné náklady_x000D_ _x000D_ 2) na vybraných listoch vyplňte v zostave_x000D_ _x000D_ a) Krycí list_x000D_ - údaje o Zhotoviteľovi, pokiaľ sa líšia od údajov o Zhotoviteľovi na Rekapitulácii stavby_x000D_ (údaje se prenesú do ostatných zostav v danom liste)_x000D_ _x000D_ b) Rekapitulácia rozpočtu_x000D_ - potrebné Ostatné náklady_x000D_ _x000D_ c) Celkové náklady za stavbu_x000D_ - ceny na položkách_x000D_ - množstvo, pokiaľ má žlté podfarbenie_x000D_ - a v prípade potreby poznámku (tá je v skrytom stĺpci) | BS5: 0,01
D6: Stavba: | K6: Depo Jurajov Dvor | BS6: 0,01
D7: JKSO: | AK7: ČS: | BS7: 0,01
D8: Miesto: | K8: Bratislava | AK8: Dátum: | AN8: 3. 3. 2026 | BS8: 0,01
BS9: 0,01
D10: Objednávateľ: | AK10: IČO: | AN10: 00492736 | BS10: 0,01
E11: Dopravný podnik Bratislava, akciová spoločnosť | AK11: IČ DPH: | AN11: SK2020298786 | BS11: 0,01
BS12: 0,01
D13: Zhotoviteľ: | AK13: IČO: | AN13: Vyplň údaj | BS13: 0,01
E14: Vyplň údaj | AK14: IČ DPH: | AN14: Vyplň údaj | BS14: 0,01
BS15: False
D16: Projektant: | AK16: IČO: | BS16: False
AK17: IČ DPH: | BS17: True
BS18: 0,01
D19: Spracovateľ: | AK19: IČO: | BS19: 0,01
AK20: IČ DPH: | BS20: True
D22: Poznámka:
D26: Náklady z rozpočtov | AK26: =ROUND(AG94,2) -> 0
D27: Ostatné náklady zo súhrnného listu | AK27: =ROUND(AG99, 2) -> 0
D29: Cena bez DPH | AK29: =ROUND(AK26 + AK27, 2) -> 0
L31: Sadzba dane | W31: Základ dane | AK31: Výška dane
D32: DPH | F32: základná | L32: 0.23 | W32: =ROUND(AZ94 + SUM(CD99:CD103), 2) -> 0 | AK32: =ROUND(AV94 + SUM(BY99:BY103), 2) -> 0
F33: znížená | L33: 0.23 | W33: =ROUND(BA94 + SUM(CE99:CE103), 2) -> 0 | AK33: =ROUND(AW94 + SUM(BZ99:BZ103), 2) -> 0
F34: zákl. prenesená | L34: 0.23 | W34: =ROUND(BB94 + SUM(CF99:CF103), 2) -> 0 | AK34: 0
F35: zníž. prenesená | L35: 0.23 | W35: =ROUND(BC94 + SUM(CG99:CG103), 2) -> 0 | AK35: 0
F36: nulová | L36: 0 | W36: =ROUND(BD94 + SUM(CH99:CH103), 2) -> 0 | AK36: 0
D38: Cena s DPH | T38: v | X38: EUR | AK38: =SUM(AK29:AK36) -> 0
D49: Projektant | AH49: Spracovateľ
D60: Dátum a podpis: | V60: Pečiatka | AH60: Dátum a podpis: | AM60: Pečiatka
D64: Objednávateľ | AH64: Zhotoviteľ
D75: Dátum a podpis: | V75: Pečiatka | AH75: Dátum a podpis: | AM75: Pečiatka
C82: REKAPITULÁCIA OBJEKTOV STAVBY
C84: Kód: | L84: =K5 -> 0126
C85: Stavba: | L85: =K6 -> Depo Jurajov Dvor
C87: Miesto: | L87: =IF(K8="","",K8) -> Bratislava | AI87: Dátum: | AM87: =IF(AN8= "","",AN8) -> 3. 3. 2026
C89: Objednávateľ: | L89: =IF(E11= "","",E11) -> Dopravný podnik Bratislava, akciová spoločnosť | AI89: Projektant: | AM89: =IF(E17="","",E17) | AS89: Informatívne údaje z listov zákaziek
C90: Zhotoviteľ: | L90: =IF(E14= "Vyplň údaj","",E14) | AI90: Spracovateľ: | AM90: =IF(E20="","",E20)
C92: Kód | I92: Popis | AG92: Cena bez DPH [EUR] | AN92: Cena s DPH [EUR] | AQ92: Typ | AS92: z toho Ostat._x000D_ náklady [EUR] | AT92: DPH [EUR] | AU92: Normohodiny [h] | AV92: DPH základná [EUR] | AW92: DPH znížená [EUR] | AX92: DPH základná prenesená_x000D_ [EUR] | AY92: DPH znížená prenesená_x000D_ [EUR] | AZ92: Základňa_x000D_ DPH základná | BA92: Základňa_x000D_ DPH znížená | BB92: Základňa_x000D_ DPH zákl. prenesená | BC92: Základňa_x000D_ DPH zníž. prenesená | BD92: Základňa_x000D_ DPH nulová
C94: 1) Náklady z rozpočtov | AG94: =ROUND(AG95,2) -> 0 | AN94: =SUM(AG94,AT94) -> 0 | AS94: =ROUND(AS95,2) -> 0 | AT94: =ROUND(SUM(AV94:AW94),2) -> 0 | AU94: =ROUND(AU95,5) -> 0 | AV94: =ROUND(AZ94*L32,2) -> 0 | AW94: =ROUND(BA94*L33,2) -> 0 | AX94: =ROUND(BB94*L32,2) -> 0 | AY94: =ROUND(BC94*L33,2) -> 0 | AZ94: =ROUND(AZ95,2) -> 0 | BA94: =ROUND(BA95,2) -> 0 | BB94: =ROUND(BB95,2) -> 0 | BC94: =ROUND(BC95,2) -> 0 | BD94: =ROUND(BD95,2) -> 0 | BS94: D | BT94: 0 | BU94: ###NOIMPORT### | BV94: IMPORT | BW94: {e2b45afd-727e-44d5-9a86-98bbb95b9aee} | BX94: {00000000-0000-0000-0000-000000000000}
D95: 06_DPA | J95: obnova wc a spŕch žien a mužov v objekte výpravne II.DPA | AG95: =ROUND(SUM(AG96:AG97),2) -> 0 | AN95: =SUM(AG95,AT95) -> 0 | AQ95: STA | AS95: =ROUND(SUM(AS96:AS97),2) -> 0 | AT95: =ROUND(SUM(AV95:AW95),2) -> 0 | AU95: =ROUND(SUM(AU96:AU97),5) -> 0 | AV95: =ROUND(AZ95*L32,2) -> 0 | AW95: =ROUND(BA95*L33,2) -> 0 | AX95: =ROUND(BB95*L32,2) -> 0 | AY95: =ROUND(BC95*L33,2) -> 0 | AZ95: =ROUND(SUM(AZ96:AZ97),2) -> 0 | BA95: =ROUND(SUM(BA96:BA97),2) -> 0 | BB95: =ROUND(SUM(BB96:BB97),2) -> 0 | BC95: =ROUND(SUM(BC96:BC97),2) -> 0 | BD95: =ROUND(SUM(BD96:BD97),2) -> 0 | BS95: D | BT95: 1 | BU95: ###NOIMPORT### | BV95: IMPORT | BW95: {6655f93a-d16f-404b-af65-d8c6f34b9016} | BX95: {e2b45afd-727e-44d5-9a86-98bbb95b9aee} | CM95: 0
A96: / | E96: 01 | K96: Obnova sprchy a wc muži | AG96: ='01 - Obnova sprchy a wc muži'!J34 -> 0 | AN96: =SUM(AG96,AT96) -> 0 | AQ96: Časť | AS96: 0 | AT96: =ROUND(SUM(AV96:AW96),2) -> 0 | AU96: ='01 - Obnova sprchy a wc muži'!P157 -> 0 | AV96: ='01 - Obnova sprchy a wc muži'!J37 -> 0 | AW96: ='01 - Obnova sprchy a wc muži'!J38 -> 0 | AX96: ='01 - Obnova sprchy a wc muži'!J39 -> 0 | AY96: ='01 - Obnova sprchy a wc muži'!J40 -> 0 | AZ96: ='01 - Obnova sprchy a wc muži'!F37 -> 0 | BA96: ='01 - Obnova sprchy a wc muži'!F38 -> 0 | BB96: ='01 - Obnova sprchy a wc muži'!F39 -> 0 | BC96: ='01 - Obnova sprchy a wc muži'!F40 -> 0 | BD96: ='01 - Obnova sprchy a wc muži'!F41 -> 0 | BT96: 2 | BV96: IMPORT | BW96: {8d978ed3-6001-491f-a1b4-00b4cf152330} | BX96: {6655f93a-d16f-404b-af65-d8c6f34b9016}
A97: / | E97: 02 | K97: Obnova sprchy a wc ženy | AG97: ='02 - Obnova sprchy a wc ženy'!J34 -> 0 | AN97: =SUM(AG97,AT97) -> 0 | AQ97: Časť | AS97: 0 | AT97: =ROUND(SUM(AV97:AW97),2) -> 0 | AU97: ='02 - Obnova sprchy a wc ženy'!P157 -> 0 | AV97: ='02 - Obnova sprchy a wc ženy'!J37 -> 0 | AW97: ='02 - Obnova sprchy a wc ženy'!J38 -> 0 | AX97: ='02 - Obnova sprchy a wc ženy'!J39 -> 0 | AY97: ='02 - Obnova sprchy a wc ženy'!J40 -> 0 | AZ97: ='02 - Obnova sprchy a wc ženy'!F37 -> 0 | BA97: ='02 - Obnova sprchy a wc ženy'!F38 -> 0 | BB97: ='02 - Obnova sprchy a wc ženy'!F39 -> 0 | BC97: ='02 - Obnova sprchy a wc ženy'!F40 -> 0 | BD97: ='02 - Obnova sprchy a wc ženy'!F41 -> 0 | BT97: 2 | BV97: IMPORT | BW97: {7039ff70-2182-459a-b97c-e8bdfb44aae2} | BX97: {6655f93a-d16f-404b-af65-d8c6f34b9016}
C99: 2) Ostatné náklady zo súhrnného listu | AG99: =ROUND(SUM(AG100:AG103), 2) -> 0 | AN99: =ROUND(SUM(AN100:AN103), 2) -> 0 | AS99: Percent. zadanie_x000D_ [% nákladov rozpočtu] | AT99: Zaradenie nákladov | AU99: DPH | AV99: DPH [EUR]
D100: Ostatné náklady | AG100: =ROUND(AG94 * AS100, 2) -> 0 | AN100: =ROUND(AG100 + AV100, 2) -> 0 | AS100: 0 | AT100: stavebná časť | AU100: základná | AV100: =ROUND(IF(AU100="základná",AG100*L32,IF(AU100="znížená",AG100*L33,0)), 2) -> 0 | BV100: OSTATNENAKLADY | BY100: =IF(AU100="základná",AV100,0) -> 0 | BZ100: =IF(AU100="znížená",AV100,0) -> 0 | CA100: 0 | CB100: 0 | CC100: 0 | CD100: =IF(AU100="základná",AG100,0) -> 0 | CE100: =IF(AU100="znížená",AG100,0) -> 0 | CF100: =IF(AU100="zákl. prenesená",AG100,0) -> 0 | CG100: =IF(AU100="zníž. prenesená",AG100,0) -> 0 | CH100: =IF(AU100="nulová",AG100,0) -> 0 | CI100: =IF(AU100="základná",1,IF(AU100="znížená",2,IF(AU100="zákl. prenesená",4,IF(AU100="zníž. prenesená",5,3)))) -> 1 | CJ100: =IF(AT100="stavebná časť",1,IF(AT100="investičná časť",2,3)) -> 1 | CK100: =IF(D100="Vyplň vlastné","","x") -> x
D101: Vyplň vlastné | AG101: =ROUND(AG94 * AS101, 2) -> 0 | AN101: =ROUND(AG101 + AV101, 2) -> 0 | AS101: 0 | AT101: stavebná časť | AU101: základná | AV101: =ROUND(IF(AU101="základná",AG101*L32,IF(AU101="znížená",AG101*L33,0)), 2) -> 0 | BV101: OSTATNENAKLADYVLASTNE | BY101: =IF(AU101="základná",AV101,0) -> 0 | BZ101: =IF(AU101="znížená",AV101,0) -> 0 | CA101: 0 | CB101: 0 | CC101: 0 | CD101: =IF(AU101="základná",AG101,0) -> 0 | CE101: =IF(AU101="znížená",AG101,0) -> 0 | CF101: =IF(AU101="zákl. prenesená",AG101,0) -> 0 | CG101: =IF(AU101="zníž. prenesená",AG101,0) -> 0 | CH101: =IF(AU101="nulová",AG101,0) -> 0 | CI101: =IF(AU101="základná",1,IF(AU101="znížená",2,IF(AU101="zákl. prenesená",4,IF(AU101="zníž. prenesená",5,3)))) -> 1 | CJ101: =IF(AT101="stavebná časť",1,IF(AT101="investičná časť",2,3)) -> 1 | CK101: =IF(D101="Vyplň vlastné","","x")
D102: Vyplň vlastné | AG102: =ROUND(AG94 * AS102, 2) -> 0 | AN102: =ROUND(AG102 + AV102, 2) -> 0 | AS102: 0 | AT102: stavebná časť | AU102: základná | AV102: =ROUND(IF(AU102="základná",AG102*L32,IF(AU102="znížená",AG102*L33,0)), 2) -> 0 | BV102: OSTATNENAKLADYVLASTNE | BY102: =IF(AU102="základná",AV102,0) -> 0 | BZ102: =IF(AU102="znížená",AV102,0) -> 0 | CA102: 0 | CB102: 0 | CC102: 0 | CD102: =IF(AU102="základná",AG102,0) -> 0 | CE102: =IF(AU102="znížená",AG102,0) -> 0 | CF102: =IF(AU102="zákl. prenesená",AG102,0) -> 0 | CG102: =IF(AU102="zníž. prenesená",AG102,0) -> 0 | CH102: =IF(AU102="nulová",AG102,0) -> 0 | CI102: =IF(AU102="základná",1,IF(AU102="znížená",2,IF(AU102="zákl. prenesená",4,IF(AU102="zníž. prenesená",5,3)))) -> 1 | CJ102: =IF(AT102="stavebná časť",1,IF(AT102="investičná časť",2,3)) -> 1 | CK102: =IF(D102="Vyplň vlastné","","x")
D103: Vyplň vlastné | AG103: =ROUND(AG94 * AS103, 2) -> 0 | AN103: =ROUND(AG103 + AV103, 2) -> 0 | AS103: 0 | AT103: stavebná časť | AU103: základná | AV103: =ROUND(IF(AU103="základná",AG103*L32,IF(AU103="znížená",AG103*L33,0)), 2) -> 0 | BV103: OSTATNENAKLADYVLASTNE | BY103: =IF(AU103="základná",AV103,0) -> 0 | BZ103: =IF(AU103="znížená",AV103,0) -> 0 | CA103: 0 | CB103: 0 | CC103: 0 | CD103: =IF(AU103="základná",AG103,0) -> 0 | CE103: =IF(AU103="znížená",AG103,0) -> 0 | CF103: =IF(AU103="zákl. prenesená",AG103,0) -> 0 | CG103: =IF(AU103="zníž. prenesená",AG103,0) -> 0 | CH103: =IF(AU103="nulová",AG103,0) -> 0 | CI103: =IF(AU103="základná",1,IF(AU103="znížená",2,IF(AU103="zákl. prenesená",4,IF(AU103="zníž. prenesená",5,3)))) -> 1 | CJ103: =IF(AT103="stavebná časť",1,IF(AT103="investičná časť",2,3)) -> 1 | CK103: =IF(D103="Vyplň vlastné","","x")
C105: Celkové náklady za stavbu 1) + 2) | AG105: =ROUND(AG94 + AG99, 2) -> 0 | AN105: =ROUND(AN94 + AN99, 2) -> 0

Sheet 01 - Obnova sprchy a wc muži
AT2: {8d978ed3-6001-491f-a1b4-00b4cf152330} | AZ2: obklad | BC2: 83,47 | BD2: 2
AT3: 0 | AZ3: plocha_kazet_podhlad | BC3: 20,812 | BD3: 2
D4: KRYCÍ LIST ROZPOČTU | M4: v --- nižšie sa nachádzajú doplnkové a pomocné údaje k zostavám --- v | AT4: False | AZ4: plocha_dlažba | BC4: 20,812 | BD4: 2
AZ5: plocha_malba_stien | BC5: 45,258 | BD5: 2
D6: Stavba: | AZ6: pocet_umyvadiel | BC6: 3 | BD6: 2
E7: ='Rekapitulácia stavby'!K6 -> Depo Jurajov Dvor | AZ7: pocet_sušičov | BC7: 1 | BD7: 2
D8: Objekt: | AZ8: pocet_pisoar | BC8: 2 | BD8: 2
E9: 06_DPA - obnova wc a spŕch žien a mužov v objekte výpravne II.DPA | AZ9: pocet_zachod | BC9: 2 | BD9: 2
D10: Časť: | AZ10: pocet_vspustov | BC10: 5 | BD10: 2
E11: 01 - Obnova sprchy a wc muži | AZ11: pocet_sprch_bater | BC11: 2 | BD11: 2
AZ12: pocet_svietidiel_str | BC12: 6 | BD12: 2
D13: JKSO: | I13: ČS: | AZ13: pocet_kridel | BC13: 5 | BD13: 2
D14: Miesto: | F14: Bratislava | I14: Dátum: | J14: ='Rekapitulácia stavby'!AN8 -> 3. 3. 2026 | AZ14: DL_ZARUBNE | BC14: 25,095 | BD14: 2
AZ15: pocet_radiator | BC15: 2 | BD15: 2
D16: Objednávateľ: | I16: IČO: | J16: 00492736 | AZ16: ventil_nasten | BC16: 2 | BD16: 2
E17: Dopravný podnik Bratislava, akciová spoločnosť | I17: IČ DPH: | J17: SK2020298786 | AZ17: ventil_roh | BC17: 14 | BD17: 2
AZ18: dn_16 | BC18: 10 | BD18: 2
D19: Zhotoviteľ: | I19: IČO: | J19: ='Rekapitulácia stavby'!AN13 -> Vyplň údaj | AZ19: dn_20 | BC19: 10 | BD19: 2
E20: ='Rekapitulácia stavby'!E14 -> Vyplň údaj | I20: IČ DPH: | J20: ='Rekapitulácia stavby'!AN14 -> Vyplň údaj | AZ20: kanal_dn_50 | BC20: 10 | BD20: 2
AZ21: kanal_dn_70 | BC21: 10 | BD21: 2
D22: Projektant: | I22: IČO: | J22: =IF('Rekapitulácia stavby'!AN16="","",'Rekapitulácia stavby'!AN16) | AZ22: dl_cyky_3x1 | BC22: 35 | BD22: 2
E23: =IF('Rekapitulácia stavby'!E17="","",'Rekapitulácia stavby'!E17) | I23: IČ DPH: | J23: =IF('Rekapitulácia stavby'!AN17="","",'Rekapitulácia stavby'!AN17) | AZ23: dl_cyky_3x2 | BC23: 30 | BD23: 2
D25: Spracovateľ: | I25: IČO: | J25: =IF('Rekapitulácia stavby'!AN19="","",'Rekapitulácia stavby'!AN19)
E26: =IF('Rekapitulácia stavby'!E20="","",'Rekapitulácia stavby'!E20) | I26: IČ DPH: | J26: =IF('Rekapitulácia stavby'!AN20="","",'Rekapitulácia stavby'!AN20)
D28: Poznámka:
D32: Náklady z rozpočtu | J32: =J98 -> 0
D33: Ostatné náklady | J33: =J128 -> 0
D34: Cena bez DPH | J34: =ROUND(J32 + J33, 2) -> 0
F36: Základ dane | I36: Sadzba dane | J36: Výška dane
D37: DPH | E37: základná | F37: =ROUND((ROUND((SUM(BE128:BE135) + SUM(BE157:BE514)), 2) + SUM(BE516:BE520)), 2) -> 0 | I37: 0.23 | J37: =ROUND((ROUND(((SUM(BE128:BE135) + SUM(BE157:BE514))*I37), 2) + (SUM(BE516:BE520)*I37)), 2) -> 0
E38: znížená | F38: =ROUND((ROUND((SUM(BF128:BF135) + SUM(BF157:BF514)), 2) + SUM(BF516:BF520)), 2) -> 0 | I38: 0.23 | J38: =ROUND((ROUND(((SUM(BF128:BF135) + SUM(BF157:BF514))*I38), 2) + (SUM(BF516:BF520)*I38)), 2) -> 0
E39: zákl. prenesená | F39: =ROUND((ROUND((SUM(BG128:BG135) + SUM(BG157:BG514)), 2) + SUM(BG516:BG520)), 2) -> 0 | I39: 0.23 | J39: =0 -> 0
E40: zníž. prenesená | F40: =ROUND((ROUND((SUM(BH128:BH135) + SUM(BH157:BH514)), 2) + SUM(BH516:BH520)), 2) -> 0 | I40: 0.23 | J40: =0 -> 0
E41: nulová | F41: =ROUND((ROUND((SUM(BI128:BI135) + SUM(BI157:BI514)), 2) + SUM(BI516:BI520)), 2) -> 0 | I41: 0 | J41: =0 -> 0
D43: Cena s DPH | G43: v | H43: EUR | J43: =SUM(J34:J41) -> 0
D50: Projektant | G50: Spracovateľ
D61: Dátum a podpis: | F61: Pečiatka | G61: Dátum a podpis: | J61: Pečiatka
D65: Objednávateľ | G65: Zhotoviteľ
D76: Dátum a podpis: | F76: Pečiatka | G76: Dátum a podpis: | J76: Pečiatka
C82: REKAPITULÁCIA ROZPOČTU
C84: Stavba:
E85: =E7 -> Depo Jurajov Dvor
C86: Objekt:
E87: 06_DPA - obnova wc a spŕch žien a mužov v objekte výpravne II.DPA
C88: Časť:
E89: =E11 -> 01 - Obnova sprchy a wc muži
C91: Miesto: | F91: =F14 -> Bratislava | I91: Dátum: | J91: =IF(J14="","",J14) -> 3. 3. 2026
C93: Objednávateľ: | F93: =E17 -> Dopravný podnik Bratislava, akciová spoločnosť | I93: Projektant: | J93: =E23
C94: Zhotoviteľ: | F94: =IF(E20="","",E20) -> Vyplň údaj | I94: Spracovateľ: | J94: =E26
C96: Kód dielu - Popis | J96: Cena celkom [EUR]
C98: 1) Náklady z rozpočtu | J98: =J157 -> 0 | AU98: -1
D99: HSV - Práce a dodávky HSV | J99: =J158 -> 0
D100: 6 - Úpravy povrchov, podlahy, osadenie | J100: =J159 -> 0
D101: 8 - Rúrové vedenie | J101: =J162 -> 0
D102: 9 - Ostatné konštrukcie a práce-búranie | J102: =J164 -> 0
D103: 99 - Presun hmôt HSV | J103: =J205 -> 0
D104: PSV - Práce a dodávky PSV | J104: =J207 -> 0
D105: 711 - Izolácie proti vode a vlhkosti | J105: =J208 -> 0
D106: 721 - Zdravotechnika - vnútorná kanalizácia | J106: =J216 -> 0
D107: 722 - Zdravotechnika - vnútorný vodovod | J107: =J247 -> 0
D108: 725 - Zdravotechnika - zariaďovacie predmety | J108: =J267 -> 0
D109: 733 - Ústredné kúrenie - rozvodné potrubie | J109: =J346 -> 0
D110: 734 - Ústredné kúrenie - armatúry | J110: =J352 -> 0
D111: 735 - Ústredné kúrenie - vykurovacie telesá | J111: =J365 -> 0
D112: 763 - Konštrukcie - drevostavby | J112: =J377 -> 0
D113: 766 - Konštrukcie stolárske | J113: =J382 -> 0
D114: 769 - Montáže vzduchotechnických zariadení | J114: =J388 -> 0
D115: 771 - Podlahy z dlaždíc | J115: =J400 -> 0
D116: 781 - Obklady | J116: =J414 -> 0
D117: 783 - Nátery | J117: =J422 -> 0
D118: 784 - Maľby | J118: =J433 -> 0
D119: M - Práce a dodávky M | J119: =J462 -> 0
D120: 21-M - Elektromontáže | J120: =J463 -> 0
D121: 22-M - Montáže oznamovacích a zabezpečovacích zariadení | J121: =J499 -> 0
D122: HZS - Hodinové zúčtovacie sadzby | J122: =J503 -> 0
D123: VRN - Investičné náklady neobsiahnuté v cenách | J123: =J505 -> 0
D124: POZ - POZNÁMKY | J124: =J510 -> 0
D125: VP - Práce naviac | J125: =J515 -> 0
C128: 2) Ostatné náklady | J128: =ROUND(J129 + J130 + J131 + J132 + J133 + J134,2) -> 0 | N128: DPH
D129: GZS | J129: 0 | N129: znížená | AY129: VRN | BE129: =IF(N129="základná",J129,0) -> 0 | BF129: =IF(N129="znížená",J129,0) -> 0 | BG129: =IF(N129="zákl. prenesená",J129,0) -> 0 | BH129: =IF(N129="zníž. prenesená",J129,0) -> 0 | BI129: =IF(N129="nulová",J129,0) -> 0 | BJ129: 2
D130: Projektové práce | J130: 0 | N130: znížená | AY130: VRN | BE130: =IF(N130="základná",J130,0) -> 0 | BF130: =IF(N130="znížená",J130,0) -> 0 | BG130: =IF(N130="zákl. prenesená",J130,0) -> 0 | BH130: =IF(N130="zníž. prenesená",J130,0) -> 0 | BI130: =IF(N130="nulová",J130,0) -> 0 | BJ130: 2
D131: Sťažené podmienky | J131: 0 | N131: znížená | AY131: VRN | BE131: =IF(N131="základná",J131,0) -> 0 | BF131: =IF(N131="znížená",J131,0) -> 0 | BG131: =IF(N131="zákl. prenesená",J131,0) -> 0 | BH131: =IF(N131="zníž. prenesená",J131,0) -> 0 | BI131: =IF(N131="nulová",J131,0) -> 0 | BJ131: 2
D132: Vplyv prostredia | J132: 0 | N132: znížená | AY132: VRN | BE132: =IF(N132="základná",J132,0) -> 0 | BF132: =IF(N132="znížená",J132,0) -> 0 | BG132: =IF(N132="zákl. prenesená",J132,0) -> 0 | BH132: =IF(N132="zníž. prenesená",J132,0) -> 0 | BI132: =IF(N132="nulová",J132,0) -> 0 | BJ132: 2
D133: Iné VRN | J133: 0 | N133: znížená | AY133: VRN | BE133: =IF(N133="základná",J133,0) -> 0 | BF133: =IF(N133="znížená",J133,0) -> 0 | BG133: =IF(N133="zákl. prenesená",J133,0) -> 0 | BH133: =IF(N133="zníž. prenesená",J133,0) -> 0 | BI133: =IF(N133="nulová",J133,0) -> 0 | BJ133: 2
D134: Kompletačná činnosť | J134: =ROUND(J32*T134,2) -> 0 | N134: znížená | AY134: KOMPLETACNA | BE134: =IF(N134="základná",J134,0) -> 0 | BF134: =IF(N134="znížená",J134,0) -> 0 | BG134: =IF(N134="zákl. prenesená",J134,0) -> 0 | BH134: =IF(N134="zníž. prenesená",J134,0) -> 0 | BI134: =IF(N134="nulová",J134,0) -> 0 | BJ134: 2
C136: Celkové náklady za stavbu 1) + 2) | J136: =ROUND(J98+J128,2) -> 0
C142: ROZPOČET
C144: Stavba:
E145: =E7 -> Depo Jurajov Dvor
C146: Objekt:
E147: 06_DPA - obnova wc a spŕch žien a mužov v objekte výpravne II.DPA
C148: Časť:
E149: =E11 -> 01 - Obnova sprchy a wc muži
C151: Miesto: | F151: =F14 -> Bratislava | I151: Dátum: | J151: =IF(J14="","",J14) -> 3. 3. 2026
C153: Objednávateľ: | F153: =E17 -> Dopravný podnik Bratislava, akciová spoločnosť | I153: Projektant: | J153: =E23
C154: Zhotoviteľ: | F154: =IF(E20="","",E20) -> Vyplň údaj | I154: Spracovateľ: | J154: =E26
C156: PČ | D156: Typ | E156: Kód | F156: Popis | G156: MJ | H156: Množstvo | I156: J.cena [EUR] | J156: Cena celkom [EUR] | K156: Cenová sústava | N156: DPH | O156: J. Nh [h] | P156: Nh celkom [h] | Q156: J. hmotnosť [t] | R156: Hmotnosť celkom [t] | S156: J. suť [t] | T156: Suť Celkom [t]
C157: Náklady z rozpočtu | J157: =BK157 -> 0 | P157: =P158+P207+P462+P503+P505+P510+P515 -> 0 | R157: =R158+R207+R462+R503+R505+R510+R515 -> 8.4838695 | T157: =T158+T207+T462+T503+T505+T510+T515 -> 7.32754 | AT157: D | AU157: -1 | BK157: =BK158+BK207+BK462+BK503+BK505+BK510+BK515 -> 0
D158: D | E158: HSV | F158: Práce a dodávky HSV | J158: =BK158 -> 0 | P158: =P159+P162+P164+P205 -> 0 | R158: =R159+R162+R164+R205 -> 0.46335976 | T158: =T159+T162+T164+T205 -> 6.4122 | AR158: 1 | AT158: D | AU158: 0 | AY158: ROZPOCET | BK158: =BK159+BK162+BK164+BK205 -> 0
D159: D | E159: 6 | F159: Úpravy povrchov, podlahy, osadenie | J159: =BK159 -> 0 | P159: =SUM(P160:P161) -> 0 | R159: =SUM(R160:R161) -> 0.4298705 | T159: =SUM(T160:T161) -> 0 | AR159: 1 | AT159: D | AU159: 1 | AY159: ROZPOCET | BK159: =SUM(BK160:BK161) -> 0
...

Sheet 02 - Obnova sprchy a wc ženy
AT2: {7039ff70-2182-459a-b97c-e8bdfb44aae2} | AZ2: obklad | BC2: 50,634 | BD2: 2
AT3: 0 | AZ3: plocha_kazet_podhlad | BC3: 11,96 | BD3: 2
D4: KRYCÍ LIST ROZPOČTU | M4: v --- nižšie sa nachádzajú doplnkové a pomocné údaje k zostavám --- v | AT4: False | AZ4: plocha_dlažba | BC4: 11,96 | BD4: 2
AZ5: plocha_malba_stien | BC5: 26,303 | BD5: 2
D6: Stavba: | AZ6: pocet_umyvadiel | BC6: 2 | BD6: 2
E7: ='Rekapitulácia stavby'!K6 -> Depo Jurajov Dvor | AZ7: pocet_sušičov | BC7: 1 | BD7: 2
D8: Objekt: | AZ8: pocet_pisoar | BC8: 2 | BD8: 2
E9: 06_DPA - obnova wc a spŕch žien a mužov v objekte výpravne II.DPA | AZ9: pocet_zachod | BC9: 1 | BD9: 2
D10: Časť: | AZ10: pocet_vspustov | BC10: 2 | BD10: 2
E11: 02 - Obnova sprchy a wc ženy | AZ11: pocet_sprch_bater | BC11: 1 | BD11: 2
AZ12: pocet_svietidiel_str | BC12: 4 | BD12: 2
D13: JKSO: | I13: ČS: | AZ13: pocet_kridel | BC13: 3 | BD13: 2
D14: Miesto: | F14: Bratislava | I14: Dátum: | J14: ='Rekapitulácia stavby'!AN8 -> 3. 3. 2026 | AZ14: DL_ZARUBNE | BC14: 15,141 | BD14: 2
AZ15: pocet_radiator | BC15: 1 | BD15: 2
D16: Objednávateľ: | I16: IČO: | J16: 00492736 | AZ16: ventil_nasten | BC16: 2 | BD16: 2
E17: Dopravný podnik Bratislava, akciová spoločnosť | I17: IČ DPH: | J17: SK2020298786 | AZ17: ventil_roh | BC17: 7 | BD17: 2
AZ18: dn_16 | BC18: 6 | BD18: 2
D19: Zhotoviteľ: | I19: IČO: | J19: ='Rekapitulácia stavby'!AN13 -> Vyplň údaj | AZ19: dn_20 | BC19: 6 | BD19: 2
E20: ='Rekapitulácia stavby'!E14 -> Vyplň údaj | I20: IČ DPH: | J20: ='Rekapitulácia stavby'!AN14 -> Vyplň údaj | AZ20: kanal_dn_50 | BC20: 6 | BD20: 2
AZ21: kanal_dn_70 | BC21: 6 | BD21: 2
D22: Projektant: | I22: IČO: | J22: =IF('Rekapitulácia stavby'!AN16="","",'Rekapitulácia stavby'!AN16) | AZ22: dl_cyky_3x1 | BC22: 20 | BD22: 2
E23: =IF('Rekapitulácia stavby'!E17="","",'Rekapitulácia stavby'!E17) | I23: IČ DPH: | J23: =IF('Rekapitulácia stavby'!AN17="","",'Rekapitulácia stavby'!AN17) | AZ23: dl_cyky_3x2 | BC23: 17 | BD23: 2
D25: Spracovateľ: | I25: IČO: | J25: =IF('Rekapitulácia stavby'!AN19="","",'Rekapitulácia stavby'!AN19)
E26: =IF('Rekapitulácia stavby'!E20="","",'Rekapitulácia stavby'!E20) | I26: IČ DPH: | J26: =IF('Rekapitulácia stavby'!AN20="","",'Rekapitulácia stavby'!AN20)
D28: Poznámka:
D32: Náklady z rozpočtu | J32: =J98 -> 0
D33: Ostatné náklady | J33: =J128 -> 0
D34: Cena bez DPH | J34: =ROUND(J32 + J33, 2) -> 0
F36: Základ dane | I36: Sadzba dane | J36: Výška dane
D37: DPH | E37: základná | F37: =ROUND((ROUND((SUM(BE128:BE135) + SUM(BE157:BE500)), 2) + SUM(BE502:BE506)), 2) -> 0 | I37: 0.23 | J37: =ROUND((ROUND(((SUM(BE128:BE135) + SUM(BE157:BE500))*I37), 2) + (SUM(BE502:BE506)*I37)), 2) -> 0
E38: znížená | F38: =ROUND((ROUND((SUM(BF128:BF135) + SUM(BF157:BF500)), 2) + SUM(BF502:BF506)), 2) -> 0 | I38: 0.23 | J38: =ROUND((ROUND(((SUM(BF128:BF135) + SUM(BF157:BF500))*I38), 2) + (SUM(BF502:BF506)*I38)), 2) -> 0
E39: zákl. prenesená | F39: =ROUND((ROUND((SUM(BG128:BG135) + SUM(BG157:BG500)), 2) + SUM(BG502:BG506)), 2) -> 0 | I39: 0.23 | J39: =0 -> 0
E40: zníž. prenesená | F40: =ROUND((ROUND((SUM(BH128:BH135) + SUM(BH157:BH500)), 2) + SUM(BH502:BH506)), 2) -> 0 | I40: 0.23 | J40: =0 -> 0
E41: nulová | F41: =ROUND((ROUND((SUM(BI128:BI135) + SUM(BI157:BI500)), 2) + SUM(BI502:BI506)), 2) -> 0 | I41: 0 | J41: =0 -> 0
D43: Cena s DPH | G43: v | H43: EUR | J43: =SUM(J34:J41) -> 0
D50: Projektant | G50: Spracovateľ
D61: Dátum a podpis: | F61: Pečiatka | G61: Dátum a podpis: | J61: Pečiatka
D65: Objednávateľ | G65: Zhotoviteľ
D76: Dátum a podpis: | F76: Pečiatka | G76: Dátum a podpis: | J76: Pečiatka
C82: REKAPITULÁCIA ROZPOČTU
C84: Stavba:
E85: =E7 -> Depo Jurajov Dvor
C86: Objekt:
E87: 06_DPA - obnova wc a spŕch žien a mužov v objekte výpravne II.DPA
C88: Časť:
E89: =E11 -> 02 - Obnova sprchy a wc ženy
C91: Miesto: | F91: =F14 -> Bratislava | I91: Dátum: | J91: =IF(J14="","",J14) -> 3. 3. 2026
C93: Objednávateľ: | F93: =E17 -> Dopravný podnik Bratislava, akciová spoločnosť | I93: Projektant: | J93: =E23
C94: Zhotoviteľ: | F94: =IF(E20="","",E20) -> Vyplň údaj | I94: Spracovateľ: | J94: =E26
C96: Kód dielu - Popis | J96: Cena celkom [EUR]
C98: 1) Náklady z rozpočtu | J98: =J157 -> 0 | AU98: -1
D99: HSV - Práce a dodávky HSV | J99: =J158 -> 0
D100: 6 - Úpravy povrchov, podlahy, osadenie | J100: =J159 -> 0
D101: 8 - Rúrové vedenie | J101: =J162 -> 0
D102: 9 - Ostatné konštrukcie a práce-búranie | J102: =J164 -> 0
D103: 99 - Presun hmôt HSV | J103: =J205 -> 0
D104: PSV - Práce a dodávky PSV | J104: =J207 -> 0
D105: 711 - Izolácie proti vode a vlhkosti | J105: =J208 -> 0
D106: 721 - Zdravotechnika - vnútorná kanalizácia | J106: =J216 -> 0
D107: 722 - Zdravotechnika - vnútorný vodovod | J107: =J246 -> 0
D108: 725 - Zdravotechnika - zariaďovacie predmety | J108: =J264 -> 0
D109: 733 - Ústredné kúrenie - rozvodné potrubie | J109: =J331 -> 0
D110: 734 - Ústredné kúrenie - armatúry | J110: =J337 -> 0
D111: 735 - Ústredné kúrenie - vykurovacie telesá | J111: =J351 -> 0
D112: 763 - Konštrukcie - drevostavby | J112: =J363 -> 0
D113: 766 - Konštrukcie stolárske | J113: =J368 -> 0
D114: 769 - Montáže vzduchotechnických zariadení | J114: =J374 -> 0
D115: 771 - Podlahy z dlaždíc | J115: =J386 -> 0
D116: 781 - Obklady | J116: =J400 -> 0
D117: 783 - Nátery | J117: =J408 -> 0
D118: 784 - Maľby | J118: =J419 -> 0
D119: M - Práce a dodávky M | J119: =J448 -> 0
D120: 21-M - Elektromontáže | J120: =J449 -> 0
D121: 22-M - Montáže oznamovacích a zabezpečovacích zariadení | J121: =J485 -> 0
D122: HZS - Hodinové zúčtovacie sadzby | J122: =J489 -> 0
D123: VRN - Investičné náklady neobsiahnuté v cenách | J123: =J491 -> 0
D124: POZ - POZNÁMKY | J124: =J496 -> 0
D125: VP - Práce naviac | J125: =J501 -> 0
C128: 2) Ostatné náklady | J128: =ROUND(J129 + J130 + J131 + J132 + J133 + J134,2) -> 0 | N128: DPH
D129: GZS | J129: 0 | N129: znížená | AY129: VRN | BE129: =IF(N129="základná",J129,0) -> 0 | BF129: =IF(N129="znížená",J129,0) -> 0 | BG129: =IF(N129="zákl. prenesená",J129,0) -> 0 | BH129: =IF(N129="zníž. prenesená",J129,0) -> 0 | BI129: =IF(N129="nulová",J129,0) -> 0 | BJ129: 2
D130: Projektové práce | J130: 0 | N130: znížená | AY130: VRN | BE130: =IF(N130="základná",J130,0) -> 0 | BF130: =IF(N130="znížená",J130,0) -> 0 | BG130: =IF(N130="zákl. prenesená",J130,0) -> 0 | BH130: =IF(N130="zníž. prenesená",J130,0) -> 0 | BI130: =IF(N130="nulová",J130,0) -> 0 | BJ130: 2
D131: Sťažené podmienky | J131: 0 | N131: znížená | AY131: VRN | BE131: =IF(N131="základná",J131,0) -> 0 | BF131: =IF(N131="znížená",J131,0) -> 0 | BG131: =IF(N131="zákl. prenesená",J131,0) -> 0 | BH131: =IF(N131="zníž. prenesená",J131,0) -> 0 | BI131: =IF(N131="nulová",J131,0) -> 0 | BJ131: 2
D132: Vplyv prostredia | J132: 0 | N132: znížená | AY132: VRN | BE132: =IF(N132="základná",J132,0) -> 0 | BF132: =IF(N132="znížená",J132,0) -> 0 | BG132: =IF(N132="zákl. prenesená",J132,0) -> 0 | BH132: =IF(N132="zníž. prenesená",J132,0) -> 0 | BI132: =IF(N132="nulová",J132,0) -> 0 | BJ132: 2
D133: Iné VRN | J133: 0 | N133: znížená | AY133: VRN | BE133: =IF(N133="základná",J133,0) -> 0 | BF133: =IF(N133="znížená",J133,0) -> 0 | BG133: =IF(N133="zákl. prenesená",J133,0) -> 0 | BH133: =IF(N133="zníž. prenesená",J133,0) -> 0 | BI133: =IF(N133="nulová",J133,0) -> 0 | BJ133: 2
D134: Kompletačná činnosť | J134: =ROUND(J32*T134,2) -> 0 | N134: znížená | AY134: KOMPLETACNA | BE134: =IF(N134="základná",J134,0) -> 0 | BF134: =IF(N134="znížená",J134,0) -> 0 | BG134: =IF(N134="zákl. prenesená",J134,0) -> 0 | BH134: =IF(N134="zníž. prenesená",J134,0) -> 0 | BI134: =IF(N134="nulová",J134,0) -> 0 | BJ134: 2
C136: Celkové náklady za stavbu 1) + 2) | J136: =ROUND(J98+J128,2) -> 0
C142: ROZPOČET
C144: Stavba:
E145: =E7 -> Depo Jurajov Dvor
C146: Objekt:
E147: 06_DPA - obnova wc a spŕch žien a mužov v objekte výpravne II.DPA
C148: Časť:
E149: =E11 -> 02 - Obnova sprchy a wc ženy
C151: Miesto: | F151: =F14 -> Bratislava | I151: Dátum: | J151: =IF(J14="","",J14) -> 3. 3. 2026
C153: Objednávateľ: | F153: =E17 -> Dopravný podnik Bratislava, akciová spoločnosť | I153: Projektant: | J153: =E23
C154: Zhotoviteľ: | F154: =IF(E20="","",E20) -> Vyplň údaj | I154: Spracovateľ: | J154: =E26
C156: PČ | D156: Typ | E156: Kód | F156: Popis | G156: MJ | H156: Množstvo | I156: J.cena [EUR] | J156: Cena celkom [EUR] | K156: Cenová sústava | N156: DPH | O156: J. Nh [h] | P156: Nh celkom [h] | Q156: J. hmotnosť [t] | R156: Hmotnosť celkom [t] | S156: J. suť [t] | T156: Suť Celkom [t]
C157: Náklady z rozpočtu | J157: =BK157 -> 0 | P157: =P158+P207+P448+P489+P491+P496+P501 -> 0 | R157: =R158+R207+R448+R489+R491+R496+R501 -> 5.0697444 | T157: =T158+T207+T448+T489+T491+T496+T501 -> 4.367922 | AT157: D | AU157: -1 | BK157: =BK158+BK207+BK448+BK489+BK491+BK496+BK501 -> 0
D158: D | E158: HSV | F158: Práce a dodávky HSV | J158: =BK158 -> 0 | P158: =P159+P162+P164+P205 -> 0 | R158: =R159+R162+R164+R205 -> 0.28012503 | T158: =T159+T162+T164+T205 -> 3.874312 | AR158: 1 | AT158: D | AU158: 0 | AY158: ROZPOCET | BK158: =BK159+BK162+BK164+BK205 -> 0
D159: D | E159: 6 | F159: Úpravy povrchov, podlahy, osadenie | J159: =BK159 -> 0 | P159: =SUM(P160:P161) -> 0 | R159: =SUM(R160:R161) -> 0.2607651 | T159: =SUM(T160:T161) -> 0 | AR159: 1 | AT159: D | AU159: 1 | AY159: ROZPOCET | BK159: =SUM(BK160:BK161) -> 0
...

Sheet Zoznam figúr
C4: ZOZNAM FIGÚR
C5: Kód: | D5: 0126
C6: Stavba: | D6: Depo Jurajov Dvor
C7: Dátum: | D7: ='Rekapitulácia stavby'!AN8 -> 3. 3. 2026
C9: Kód | D9: Popis | E9: MJ | F9: Výmera
C10: 06_DPA/ 01 | D10: Obnova sprchy a wc muži
C11: dl_cyky_3x1 | F11: 35
D12: "odhad" 35 | F12: 35
C13: dl_cyky_3x1 | D13: Súčet | F13: 35
C14: Použitie figúry:
C15: 210800146.S | D15: Kábel medený uložený pevne CYKY 450/750 V 3x1,5 | E15: m | F15: 35
C16: 220260504.S1 | D16: Zasekanie a zacistenie rozvodov vody a eli. pod omietkou | E16: m | F16: 95
C17: dl_cyky_3x2 | F17: 30
D18: "odhad" 30 | F18: 30
C19: dl_cyky_3x2 | D19: Súčet | F19: 30
C20: Použitie figúry:
C21: 210800147.S | D21: Kábel medený uložený pevne CYKY 450/750 V 3x2,5 | E21: m | F21: 30
C22: 220260504.S1 | D22: Zasekanie a zacistenie rozvodov vody a eli. pod omietkou | E22: m | F22: 95
C23: DL_RUR_ODPDAD | F23: 20
D24: kanal_dn_50+kanal_dn_70 | F24: 20
C25: DL_RUR_ODPDAD | D25: Súčet | F25: 20
C26: DL_ZARUBNE | F26: 25.095
D27: "DVERE 70/197" (0,8+2,02*2)*2*1,05 | F27: 10.164
D28: "DVERE 60/197" (0,7+2,02*2)*3*1,05 | F28: 14.931
C29: DL_ZARUBNE | D29: Súčet | F29: 25.095
C30: Použitie figúry:
C31: 783201812.S1 | D31: Odstránenie starých náterov z kovových stavebných doplnkových konštrukcií oceľovou kefou ZARUBNE | E31: m | F31: 25.095
C32: 783224900.S1 | D32: Náter kov.stav.doplnk.konštr. syntetické na vzduchu schnúce ZARUBNE | E32: m | F32: 25.095
C33: dn_16 | F33: 10
D34: "odhad" 10 | F34: 10
C35: dn_16 | D35: Súčet | F35: 10
C36: Použitie figúry:
C37: 722171130.S1 | D37: Vodovodné potrubie d 16 mm, izolovanie, vr. tvaroviek, D+M | E37: m | F37: 10
C38: 220260504.S1 | D38: Zasekanie a zacistenie rozvodov vody a eli. pod omietkou | E38: m | F38: 95
C39: 722130801.S | D39: Demontáž potrubia z oceľových rúrok závitových do DN 25, -0,00213t | E39: m | F39: 20
C40: 974049221.S | D40: Vysekanie rýh v bet. stenách v priestore priľ. k str. konštr. hĺbky 30 mm a šírky do 30 mm, -0,00200t | E40: m | F40: 20
C41: dn_20 | F41: 10
D42: "odhad" 10 | F42: 10
C43: dn_20 | D43: Súčet | F43: 10
C44: Použitie figúry:
C45: 722171132.S1 | D45: Vodovodné potrubie d 20 mm, izolovanie, vr. tvaroviek, D+M | E45: m | F45: 10
C46: 220260504.S1 | D46: Zasekanie a zacistenie rozvodov vody a eli. pod omietkou | E46: m | F46: 95
C47: 722130801.S | D47: Demontáž potrubia z oceľových rúrok závitových do DN 25, -0,00213t | E47: m | F47: 20
C48: 974049221.S | D48: Vysekanie rýh v bet. stenách v priestore priľ. k str. konštr. hĺbky 30 mm a šírky do 30 mm, -0,00200t | E48: m | F48: 20
C49: kanal_dn_50 | F49: 10
D50: "odhad" 10 | F50: 10
C51: kanal_dn_50 | D51: Súčet | F51: 10
C52: Použitie figúry:
C53: 721172011.S1 | D53: Potrubie odpadové , DN 50, vr. tvaroviek, D+M | E53: m | F53: 10
C54: 220260504.S1 | D54: Zasekanie a zacistenie rozvodov vody a eli. pod omietkou | E54: m | F54: 95
C55: 721140802.S | D55: Demontáž potrubia rúr odpadového alebo dažďového do DN 100, -0,01492t | E55: m | F55: 20
C56: 974049232.S | D56: Vysekanie rýh v bet. stenách v priestore priľ. k str. konštr. hĺbky 50 mm a šírky do 70 mm, -0,00800t | E56: m | F56: 20
C57: kanal_dn_70 | F57: 10
D58: "odhad" 10 | F58: 10
C59: kanal_dn_70 | D59: Súčet | F59: 10
C60: Použitie figúry:
C61: 721172012.S1 | D61: Potrubie odpadové, DN 70, vr. tvaroviek, D+M | E61: m | F61: 10
C62: 721140802.S | D62: Demontáž potrubia rúr odpadového alebo dažďového do DN 100, -0,01492t | E62: m | F62: 20
C63: 721300932.S | D63: Prečistenie šikmého pripojovacieho potrubia do DN 100 | E63: m | F63: 10
C64: 974049232.S | D64: Vysekanie rýh v bet. stenách v priestore priľ. k str. konštr. hĺbky 50 mm a šírky do 70 mm, -0,00800t | E64: m | F64: 20
C65: obklad | F65: 83.47
D66: "1.35 predsien wc muzi" (2,325+1,65)*2*2,1*1,05-0,8*2,02*2-0,7*2,02 | F66: 12.884
D67: "1.36 wc muzi" (2,35+3,275+1,625+0,9*2)*2*2,1*1,05-0,7*2,02*5-0,9*0,9*2 | F67: 31.221
D68: "1.37 hyg. box muzi" (4,8+2,25+0,9+2,25)*2*2,3*1,05-0,8*2,02-0,9*0,9-0,65*2,3*2-0,975*2,3*2 | F68: 39.365
C69: obklad | D69: Súčet | F69: 83.47
C70: Použitie figúry:
C71: 978059511.S | D71: Odsekanie a odobratie obkladov stien z obkladačiek vnútorných vrátane podkladovej omietky do 2 m2, -0,06800t | E71: m2 | F71: 83.47
C72: 612481119.S | D72: Potiahnutie vnútorných stien sklotextilnou mriežkou s celoplošným prilepením | E72: m2 | F72: 83.47
C73: 781441159.S | D73: Montáž obkladov vnútor. stien z obkladačiek kladených do malty v obmedzenom priestore veľ. 300x600 mm | E73: m2 | F73: 83.47
C74: 781991121.S | D74: Penetrovanie podkladu pred kladením obkladu | E74: m2 | F74: 83.47
C75: plocha_dlažba | F75: 20.812
D76: "1.35 predsien wc muzi" 4,05*1,05 | F76: 4.253
D77: "1.36 wc muzi" 6,7*1,05 | F77: 7.035
D78: "1.37 hyg. box muzi" 9,07*1,05 | F78: 9.524
C79: plocha_dlažba | D79: Súčet | F79: 20.812
C80: Použitie figúry:
C81: 965081712.S | D81: Búranie dlažieb, bez podklad. lôžka z xylolit., alebo keramických dlaždíc hr. do 10 mm, -0,02000t | E81: m2 | F81: 20.812
C82: 000800013.S1 | D82: Vplyv pracovného prostredia - prevádzka investora a vplyv prostredia prestávky v práci - Príplatok za prácu v noci, cez sviatky a v dňoch pracovného pokoja | E82: m2 | F82: 23.934
C83: 763135045.S1 | D83: Kazetový podhľad 600 x 600 mm, hrana ostrá, konštrukcia viditeľná, doska sadrokartónová biela hr. 10 mm do vlhkých priestorov (hygienický sdk) | E83: m2 | F83: 20.812
C84: 771576313.S | D84: Montáž podláh z dlaždíc keramických do tmelu flexibilného mrazuvzdorného v obmedzenom priestore veľ. 300 x 600 mm | E84: m2 | F84: 20.812
C85: 771991102.S | D85: Vysávanie podkladu pred kladením dlažby | E85: m2 | F85: 20.812
C86: 771991111.S | D86: Penetrovanie podkladu pred kladením dlažby | E86: m2 | F86: 20.812
C87: 771991134.S | D87: Vyspravenie podkladu nivelačnou stierkou pred kladením dlažby hr. 5 mm | E87: m2 | F87: 20.812
C88: 771991201.S | D88: Príprava podkladu prebrúsením strojne brúskou na betón pred kladením dlažby | E88: m2 | F88: 20.812
C89: plocha_kazet_podhlad | F89: 20.812
D90: plocha_dlažba | F90: 20.812
C91: plocha_kazet_podhlad | D91: Súčet | F91: 20.812
C92: Použitie figúry:
C93: 763135045.S1 | D93: Kazetový podhľad 600 x 600 mm, hrana ostrá, konštrukcia viditeľná, doska sadrokartónová biela hr. 10 mm do vlhkých priestorov (hygienický sdk) | E93: m2 | F93: 20.812
C94: 784418012.S | D94: Zakrývanie podláh a zariadení papierom v miestnostiach alebo na schodisku | E94: m2 | F94: 20.812
C95: 941955001.S | D95: Lešenie ľahké pracovné pomocné, s výškou lešeňovej podlahy do 1,20 m | E95: m2 | F95: 20.812
C96: 952901111.S | D96: Vyčistenie budov pri výške podlaží do 4 m | E96: m2 | F96: 27.056
C97: plocha_malba_stien | F97: 45.258
D98: "1.35 predsien wc muzi" (2,325+1,65)*2*1*1,05 | F98: 8.348
D99: "1.36 wc muzi" (2,35+3,275+1,625+0,9*2)*2*1*1,05-0,9*0,7*2 | F99: 17.745
D100: "1.37 hyg. box muzi" (4,8+2,25+0,9+2,25)*2*1*1,05-0,9*0,7-0,65*1-0,975*1 | F100: 19.165
C101: plocha_malba_stien | D101: Súčet | F101: 45.258
C102: Použitie figúry:
C103: 784410500.S | D103: Prebrúsenie a oprášenie jemnozrnných povrchov výšky do 3,80 m | E103: m2 | F103: 45.258
C104: 784410100.S | D104: Penetrovanie jednonásobné jemnozrnných podkladov výšky do 3,80 m | E104: m2 | F104: 45.258
...
