Workbook

Sheet Rekapitulácia stavby
A1: Export Komplet | BA1: 2.0 | BB1: ZAMOK | BT1: False | BU1: False | BV1: {e2b45afd-727e-44d5-9a86-98bbb95b9aee}
BS2: 0,01 | BT2: 23
BS3: 0,01 | BT3: 23
D4: REKAPITULÁCIA STAVBY | AS4: v --- nižšie sa nachádzajú doplnkové a pomocné údaje k zostavám --- v | BE4: Návod na vyplnenie | BS4: 0,001
D5: Kód: | K5: 0126 | BE5: Meniť je možné iba bunky so žltým podfarbením!_x000D_ _x000D_ 1) na prvom liste Rekapitulácie stavby vyplňte v zostave_x000D_ _x000D_ a) Rekapitulácia stavby_x000D_ - údaje o Zhotoviteľovi_x000D_ (prenesú sa do ostatných zostáv aj v iných listoch)_x000D_ _x000D_ b) Rekapitulácia objektov stavby_x000D_ - potrebné Ostatné náklady_x000D_ _x000D_ 2) na vybraných listoch vyplňte v zostave_x000D_ _x000D_ a) Krycí list_x000D_ - údaje o Zhotoviteľovi, pokiaľ sa líšia od údajov o Zhotoviteľovi na Rekapitulácii stavby_x000D_ (údaje se prenesú do ostatných zostav v danom liste)_x000D_ _x000D_ b) Rekapitulácia rozpočtu_x000D_ - potrebné Ostatné náklady_x000D_ _x000D_ c) Celkové náklady za stavbu_x000D_ - ceny na položkách_x000D_ - množstvo, pokiaľ má žlté podfarbenie_x000D_ - a v prípade potreby poznámku (tá je v skrytom stĺpci) | BS5: 0,01
D6: Stavba: | K6: Depo Jurajov Dvor | BS6: 0,01
D7: JKSO: | AK7: ČS: | BS7: 0,01
D8: Miesto: | K8: Bratislava | AK8: Dátum: | AN8: 3. 3. 2026 | BS8: 0,01
BS9: 0,01
D10: Objednávateľ: | AK10: IČO: | AN10: 00492736 | BS10: 0,01
E11: Dopravný podnik Bratislava, akciová spoločnosť | AK11: IČ DPH: | AN11: SK2020298786 | BS11: 0,01
BS12: 0,01
D13: Zhotoviteľ: | AK13: IČO: | AN13: Vyplň údaj | BS13: 0,01
E14: Vyplň údaj | AK14: IČ DPH: | AN14: Vyplň údaj | BS14: 0,01
BS15: False
D16: Projektant: | AK16: IČO: | BS16: False
AK17: IČ DPH: | BS17: True
BS18: 0,01
D19: Spracovateľ: | AK19: IČO: | BS19: 0,01
AK20: IČ DPH: | BS20: True
D22: Poznámka:
D26: Náklady z rozpočtov | AK26: =ROUND(AG94,2) -> 0
D27: Ostatné náklady zo súhrnného listu | AK27: =ROUND(AG99, 2) -> 0
D29: Cena bez DPH | AK29: =ROUND(AK26 + AK27, 2) -> 0
L31: Sadzba dane | W31: Základ dane | AK31: Výška dane
D32: DPH | F32: základná | L32: 0.23 | W32: =ROUND(AZ94 + SUM(CD99:CD103), 2) -> 0 | AK32: =ROUND(AV94 + SUM(BY99:BY103), 2) -> 0
F33: znížená | L33: 0.23 | W33: =ROUND(BA94 + SUM(CE99:CE103), 2) -> 0 | AK33: =ROUND(AW94 + SUM(BZ99:BZ103), 2) -> 0
F34: zákl. prenesená | L34: 0.23 | W34: =ROUND(BB94 + SUM(CF99:CF103), 2) -> 0 | AK34: 0
F35: zníž. prenesená | L35: 0.23 | W35: =ROUND(BC94 + SUM(CG99:CG103), 2) -> 0 | AK35: 0
F36: nulová | L36: 0 | W36: =ROUND(BD94 + SUM(CH99:CH103), 2) -> 0 | AK36: 0
D38: Cena s DPH | T38: v | X38: EUR | AK38: =SUM(AK29:AK36) -> 0
D49: Projektant | AH49: Spracovateľ
D60: Dátum a podpis: | V60: Pečiatka | AH60: Dátum a podpis: | AM60: Pečiatka
D64: Objednávateľ | AH64: Zhotoviteľ
D75: Dátum a podpis: | V75: Pečiatka | AH75: Dátum a podpis: | AM75: Pečiatka
C82: REKAPITULÁCIA OBJEKTOV STAVBY
C84: Kód: | L84: =K5 -> 0126
C85: Stavba: | L85: =K6 -> Depo Jurajov Dvor
C87: Miesto: | L87: =IF(K8="","",K8) -> Bratislava | AI87: Dátum: | AM87: =IF(AN8= "","",AN8) -> 3. 3. 2026
C89: Objednávateľ: | L89: =IF(E11= "","",E11) -> Dopravný podnik Bratislava, akciová spoločnosť | AI89: Projektant: | AM89: =IF(E17="","",E17) | AS89: Informatívne údaje z listov zákaziek
...

Sheet 01 - Obnova sprchy a wc muži
AT2: {8d978ed3-6001-491f-a1b4-00b4cf152330} | AZ2: obklad | BC2: 83,47 | BD2: 2
AT3: 0 | AZ3: plocha_kazet_podhlad | BC3: 20,812 | BD3: 2
D4: KRYCÍ LIST ROZPOČTU | M4: v --- nižšie sa nachádzajú doplnkové a pomocné údaje k zostavám --- v | AT4: False | AZ4: plocha_dlažba | BC4: 20,812 | BD4: 2
AZ5: plocha_malba_stien | BC5: 45,258 | BD5: 2
D6: Stavba: | AZ6: pocet_umyvadiel | BC6: 3 | BD6: 2
E7: ='Rekapitulácia stavby'!K6 -> Depo Jurajov Dvor | AZ7: pocet_sušičov | BC7: 1 | BD7: 2
D8: Objekt: | AZ8: pocet_pisoar | BC8: 2 | BD8: 2
E9: 06_DPA - obnova wc a spŕch žien a mužov v objekte výpravne II.DPA | AZ9: pocet_zachod | BC9: 2 | BD9: 2
D10: Časť: | AZ10: pocet_vspustov | BC10: 5 | BD10: 2
E11: 01 - Obnova sprchy a wc muži | AZ11: pocet_sprch_bater | BC11: 2 | BD11: 2
AZ12: pocet_svietidiel_str | BC12: 6 | BD12: 2
D13: JKSO: | I13: ČS: | AZ13: pocet_kridel | BC13: 5 | BD13: 2
D14: Miesto: | F14: Bratislava | I14: Dátum: | J14: ='Rekapitulácia stavby'!AN8 -> 3. 3. 2026 | AZ14: DL_ZARUBNE | BC14: 25,095 | BD14: 2
AZ15: pocet_radiator | BC15: 2 | BD15: 2
D16: Objednávateľ: | I16: IČO: | J16: 00492736 | AZ16: ventil_nasten | BC16: 2 | BD16: 2
E17: Dopravný podnik Bratislava, akciová spoločnosť | I17: IČ DPH: | J17: SK2020298786 | AZ17: ventil_roh | BC17: 14 | BD17: 2
AZ18: dn_16 | BC18: 10 | BD18: 2
D19: Zhotoviteľ: | I19: IČO: | J19: ='Rekapitulácia stavby'!AN13 -> Vyplň údaj | AZ19: dn_20 | BC19: 10 | BD19: 2
E20: ='Rekapitulácia stavby'!E14 -> Vyplň údaj | I20: IČ DPH: | J20: ='Rekapitulácia stavby'!AN14 -> Vyplň údaj | AZ20: kanal_dn_50 | BC20: 10 | BD20: 2
AZ21: kanal_dn_70 | BC21: 10 | BD21: 2
D22: Projektant: | I22: IČO: | J22: =IF('Rekapitulácia stavby'!AN16="","",'Rekapitulácia stavby'!AN16) | AZ22: dl_cyky_3x1 | BC22: 35 | BD22: 2
E23: =IF('Rekapitulácia stavby'!E17="","",'Rekapitulácia stavby'!E17) | I23: IČ DPH: | J23: =IF('Rekapitulácia stavby'!AN17="","",'Rekapitulácia stavby'!AN17) | AZ23: dl_cyky_3x2 | BC23: 30 | BD23: 2
D25: Spracovateľ: | I25: IČO: | J25: =IF('Rekapitulácia stavby'!AN19="","",'Rekapitulácia stavby'!AN19)
E26: =IF('Rekapitulácia stavby'!E20="","",'Rekapitulácia stavby'!E20) | I26: IČ DPH: | J26: =IF('Rekapitulácia stavby'!AN20="","",'Rekapitulácia stavby'!AN20)
D28: Poznámka:
D32: Náklady z rozpočtu | J32: =J98 -> 0
D33: Ostatné náklady | J33: =J128 -> 0
D34: Cena bez DPH | J34: =ROUND(J32 + J33, 2) -> 0
F36: Základ dane | I36: Sadzba dane | J36: Výška dane
D37: DPH | E37: základná | F37: =ROUND((ROUND((SUM(BE128:BE135) + SUM(BE157:BE514)), 2) + SUM(BE516:BE520)), 2) -> 0 | I37: 0.23 | J37: =ROUND((ROUND(((SUM(BE128:BE135) + SUM(BE157:BE514))*I37), 2) + (SUM(BE516:BE520)*I37)), 2) -> 0
E38: znížená | F38: =ROUND((ROUND((SUM(BF128:BF135) + SUM(BF157:BF514)), 2) + SUM(BF516:BF520)), 2) -> 0 | I38: 0.23 | J38: =ROUND((ROUND(((SUM(BF128:BF135) + SUM(BF157:BF514))*I38), 2) + (SUM(BF516:BF520)*I38)), 2) -> 0
E39: zákl. prenesená | F39: =ROUND((ROUND((SUM(BG128:BG135) + SUM(BG157:BG514)), 2) + SUM(BG516:BG520)), 2) -> 0 | I39: 0.23 | J39: =0 -> 0
E40: zníž. prenesená | F40: =ROUND((ROUND((SUM(BH128:BH135) + SUM(BH157:BH514)), 2) + SUM(BH516:BH520)), 2) -> 0 | I40: 0.23 | J40: =0 -> 0
E41: nulová | F41: =ROUND((ROUND((SUM(BI128:BI135) + SUM(BI157:BI514)), 2) + SUM(BI516:BI520)), 2) -> 0 | I41: 0 | J41: =0 -> 0
D43: Cena s DPH | G43: v | H43: EUR | J43: =SUM(J34:J41) -> 0
D50: Projektant | G50: Spracovateľ
D61: Dátum a podpis: | F61: Pečiatka | G61: Dátum a podpis: | J61: Pečiatka
D65: Objednávateľ | G65: Zhotoviteľ
D76: Dátum a podpis: | F76: Pečiatka | G76: Dátum a podpis: | J76: Pečiatka
C82: REKAPITULÁCIA ROZPOČTU
...

Sheet 02 - Obnova sprchy a wc ženy
AT2: {7039ff70-2182-459a-b97c-e8bdfb44aae2} | AZ2: obklad | BC2: 50,634 | BD2: 2
AT3: 0 | AZ3: plocha_kazet_podhlad | BC3: 11,96 | BD3: 2
D4: KRYCÍ LIST ROZPOČTU | M4: v --- nižšie sa nachádzajú doplnkové a pomocné údaje k zostavám --- v | AT4: False | AZ4: plocha_dlažba | BC4: 11,96 | BD4: 2
AZ5: plocha_malba_stien | BC5: 26,303 | BD5: 2
D6: Stavba: | AZ6: pocet_umyvadiel | BC6: 2 | BD6: 2
E7: ='Rekapitulácia stavby'!K6 -> Depo Jurajov Dvor | AZ7: pocet_sušičov | BC7: 1 | BD7: 2
D8: Objekt: | AZ8: pocet_pisoar | BC8: 2 | BD8: 2
E9: 06_DPA - obnova wc a spŕch žien a mužov v objekte výpravne II.DPA | AZ9: pocet_zachod | BC9: 1 | BD9: 2
D10: Časť: | AZ10: pocet_vspustov | BC10: 2 | BD10: 2
E11: 02 - Obnova sprchy a wc ženy | AZ11: pocet_sprch_bater | BC11: 1 | BD11: 2
AZ12: pocet_svietidiel_str | BC12: 4 | BD12: 2
D13: JKSO: | I13: ČS: | AZ13: pocet_kridel | BC13: 3 | BD13: 2
D14: Miesto: | F14: Bratislava | I14: Dátum: | J14: ='Rekapitulácia stavby'!AN8 -> 3. 3. 2026 | AZ14: DL_ZARUBNE | BC14: 15,141 | BD14: 2
AZ15: pocet_radiator | BC15: 1 | BD15: 2
D16: Objednávateľ: | I16: IČO: | J16: 00492736 | AZ16: ventil_nasten | BC16: 2 | BD16: 2
E17: Dopravný podnik Bratislava, akciová spoločnosť | I17: IČ DPH: | J17: SK2020298786 | AZ17: ventil_roh | BC17: 7 | BD17: 2
AZ18: dn_16 | BC18: 6 | BD18: 2
D19: Zhotoviteľ: | I19: IČO: | J19: ='Rekapitulácia stavby'!AN13 -> Vyplň údaj | AZ19: dn_20 | BC19: 6 | BD19: 2
E20: ='Rekapitulácia stavby'!E14 -> Vyplň údaj | I20: IČ DPH: | J20: ='Rekapitulácia stavby'!AN14 -> Vyplň údaj | AZ20: kanal_dn_50 | BC20: 6 | BD20: 2
AZ21: kanal_dn_70 | BC21: 6 | BD21: 2
D22: Projektant: | I22: IČO: | J22: =IF('Rekapitulácia stavby'!AN16="","",'Rekapitulácia stavby'!AN16) | AZ22: dl_cyky_3x1 | BC22: 20 | BD22: 2
E23: =IF('Rekapitulácia stavby'!E17="","",'Rekapitulácia stavby'!E17) | I23: IČ DPH: | J23: =IF('Rekapitulácia stavby'!AN17="","",'Rekapitulácia stavby'!AN17) | AZ23: dl_cyky_3x2 | BC23: 17 | BD23: 2
D25: Spracovateľ: | I25: IČO: | J25: =IF('Rekapitulácia stavby'!AN19="","",'Rekapitulácia stavby'!AN19)
E26: =IF('Rekapitulácia stavby'!E20="","",'Rekapitulácia stavby'!E20) | I26: IČ DPH: | J26: =IF('Rekapitulácia stavby'!AN20="","",'Rekapitulácia stavby'!AN20)
D28: Poznámka:
D32: Náklady z rozpočtu | J32: =J98 -> 0
D33: Ostatné náklady | J33: =J128 -> 0
D34: Cena bez DPH | J34: =ROUND(J32 + J33, 2) -> 0
F36: Základ dane | I36: Sadzba dane | J36: Výška dane
D37: DPH | E37: základná | F37: =ROUND((ROUND((SUM(BE128:BE135) + SUM(BE157:BE500)), 2) + SUM(BE502:BE506)), 2) -> 0 | I37: 0.23 | J37: =ROUND((ROUND(((SUM(BE128:BE135) + SUM(BE157:BE500))*I37), 2) + (SUM(BE502:BE506)*I37)), 2) -> 0
E38: znížená | F38: =ROUND((ROUND((SUM(BF128:BF135) + SUM(BF157:BF500)), 2) + SUM(BF502:BF506)), 2) -> 0 | I38: 0.23 | J38: =ROUND((ROUND(((SUM(BF128:BF135) + SUM(BF157:BF500))*I38), 2) + (SUM(BF502:BF506)*I38)), 2) -> 0
E39: zákl. prenesená | F39: =ROUND((ROUND((SUM(BG128:BG135) + SUM(BG157:BG500)), 2) + SUM(BG502:BG506)), 2) -> 0 | I39: 0.23 | J39: =0 -> 0
E40: zníž. prenesená | F40: =ROUND((ROUND((SUM(BH128:BH135) + SUM(BH157:BH500)), 2) + SUM(BH502:BH506)), 2) -> 0 | I40: 0.23 | J40: =0 -> 0
E41: nulová | F41: =ROUND((ROUND((SUM(BI128:BI135) + SUM(BI157:BI500)), 2) + SUM(BI502:BI506)), 2) -> 0 | I41: 0 | J41: =0 -> 0
D43: Cena s DPH | G43: v | H43: EUR | J43: =SUM(J34:J41) -> 0
D50: Projektant | G50: Spracovateľ
D61: Dátum a podpis: | F61: Pečiatka | G61: Dátum a podpis: | J61: Pečiatka
D65: Objednávateľ | G65: Zhotoviteľ
D76: Dátum a podpis: | F76: Pečiatka | G76: Dátum a podpis: | J76: Pečiatka
C82: REKAPITULÁCIA ROZPOČTU
...

Sheet Zoznam figúr
C4: ZOZNAM FIGÚR
C5: Kód: | D5: 0126
C6: Stavba: | D6: Depo Jurajov Dvor
C7: Dátum: | D7: ='Rekapitulácia stavby'!AN8 -> 3. 3. 2026
C9: Kód | D9: Popis | E9: MJ | F9: Výmera
C10: 06_DPA/ 01 | D10: Obnova sprchy a wc muži
C11: dl_cyky_3x1 | F11: 35
D12: "odhad" 35 | F12: 35
C13: dl_cyky_3x1 | D13: Súčet | F13: 35
C14: Použitie figúry:
C15: 210800146.S | D15: Kábel medený uložený pevne CYKY 450/750 V 3x1,5 | E15: m | F15: 35
C16: 220260504.S1 | D16: Zasekanie a zacistenie rozvodov vody a eli. pod omietkou | E16: m | F16: 95
C17: dl_cyky_3x2 | F17: 30
D18: "odhad" 30 | F18: 30
C19: dl_cyky_3x2 | D19: Súčet | F19: 30
C20: Použitie figúry:
C21: 210800147.S | D21: Kábel medený uložený pevne CYKY 450/750 V 3x2,5 | E21: m | F21: 30
C22: 220260504.S1 | D22: Zasekanie a zacistenie rozvodov vody a eli. pod omietkou | E22: m | F22: 95
C23: DL_RUR_ODPDAD | F23: 20
D24: kanal_dn_50+kanal_dn_70 | F24: 20
C25: DL_RUR_ODPDAD | D25: Súčet | F25: 20
C26: DL_ZARUBNE | F26: 25.095
D27: "DVERE 70/197" (0,8+2,02*2)*2*1,05 | F27: 10.164
D28: "DVERE 60/197" (0,7+2,02*2)*3*1,05 | F28: 14.931
C29: DL_ZARUBNE | D29: Súčet | F29: 25.095
C30: Použitie figúry:
C31: 783201812.S1 | D31: Odstránenie starých náterov z kovových stavebných doplnkových konštrukcií oceľovou kefou ZARUBNE | E31: m | F31: 25.095
C32: 783224900.S1 | D32: Náter kov.stav.doplnk.konštr. syntetické na vzduchu schnúce ZARUBNE | E32: m | F32: 25.095
C33: dn_16 | F33: 10
D34: "odhad" 10 | F34: 10
C35: dn_16 | D35: Súčet | F35: 10
C36: Použitie figúry:
C37: 722171130.S1 | D37: Vodovodné potrubie d 16 mm, izolovanie, vr. tvaroviek, D+M | E37: m | F37: 10
C38: 220260504.S1 | D38: Zasekanie a zacistenie rozvodov vody a eli. pod omietkou | E38: m | F38: 95
C39: 722130801.S | D39: Demontáž potrubia z oceľových rúrok závitových do DN 25, -0,00213t | E39: m | F39: 20
C40: 974049221.S | D40: Vysekanie rýh v bet. stenách v priestore priľ. k str. konštr. hĺbky 30 mm a šírky do 30 mm, -0,00200t | E40: m | F40: 20
C41: dn_20 | F41: 10
D42: "odhad" 10 | F42: 10
C43: dn_20 | D43: Súčet | F43: 10
C44: Použitie figúry:
...
