Workbook

Sheet Návrh na plnenie kritéria
D1: Príloha č. 1 k časti A.2
A3: Návrh na plnenie kritéria
A5: Nákup, dodanie a realizácia nových smerových stĺpikov
A7: 2. Identifikácia uchádzača
A8: Obchodné meno:
A9: Sídlo/miesto podnikania:
A10: IČO:
A11: Kontaktná osoba:
A12: Tel. č.:
A13: E-mail:
A16: Kritérium | B16: Cena celkom v € bez DPH | C16: 23% DPH v € | D16: Cena celkom v € s DPH
A17: Uchádzačom navrhovaná celková cena za celý predmet zákazky zahŕňajúca všetky náklady súvisiace s predmetom zákazky vyjadrená v eurách bez DPH | B17: ='Špecifikácia ceny'!F70 -> 0 | C17: =B17*0.23 -> 0 | D17: =B17+C17 -> 0
A20: Poznámka:
A21: Uchádzač uvedie skutočnosť či je/nie je platcom DPH: som/nie som* platcom DPH.
A24: V ........................................................, dňa ........................
C26: .........................................................................................
C27: meno, priezvisko a podpis osoby oprávnenej konať v mene uchádzača

Sheet Špecifikácia ceny
E1: Príloha č. 1 k časti B.2
E2: Príloha č. 3 k RD
A3: Nákup, dodanie a realizácia nových smerových stĺpikov
A5: Špecifikácia ceny
A7: číslo položky | B7: názov položky | C7: merná jednotka | D7: počet spolu (ks) | E7: jednotková cena v € bez DPH | F7: cena spolu v € bez DPH
A8: 1 | B8: Cestný smerový stĺpik 900 (pevný) biely - retroreflexná fólia (R1) fólia tr. III - biela/červená | C8: ks | D8: 20 | F8: =D8*E8 -> 0
A9: 2 | B9: Cestný smerový stĺpik 900 (pevný) biely - plastová prizmatická odrazka (R2) - biela/červená | C9: ks | D9: 100 | F9: =D9*E9 -> 0
A10: 3 | B10: Cestný smerový stĺpik 900 (pevný) biely - bikonvexná sklenená odrazka (R3) - biela/červená | C10: ks | D10: 20 | F10: =D10*E10 -> 0
A11: 4 | B11: Cestný smerový stĺpik 1000 (pevný) biely - retroreflexná fólia (R1) fólia tr. III - biela/červená | C11: ks | D11: 20 | F11: =D11*E11 -> 0
A12: 5 | B12: Cestný smerový stĺpik 1000 (pevný) biely - plastová prizmatická odrazka (R2) - biela/červená | C12: ks | D12: 100 | F12: =D12*E12 -> 0
A13: 6 | B13: Cestný smerový stĺpik 1000 (pevný) biely - bikonvexná sklenená odrazka (R3) - biela/červená | C13: ks | D13: 20 | F13: =D13*E13 -> 0
A14: 7 | B14: Diaľničný smerový stĺpik 1200 (pevný) biely - retroreflexná fólia (R1) fólia tr. III - biela/červená | C14: ks | D14: 200 | F14: =D14*E14 -> 0
A15: 8 | B15: Diaľničný smerový stĺpik 1200 (pevný) biely - plastová prizmatická odrazka (R2) - biela/červená | C15: ks | D15: 1000 | F15: =D15*E15 -> 0
A16: 9 | B16: Diaľničný smerový stĺpik 1200 (pevný) biely - bikonvexná sklenená odrazka (R3) - biela/červená | C16: ks | D16: 200 | F16: =D16*E16 -> 0
A17: 10 | B17: Diaľničný smerový stĺpik 1500 (pevný) biely - retroreflexná fólia (R1) fólia tr. III - biela/červená | C17: ks | D17: 2000 | F17: =D17*E17 -> 0
A18: 11 | B18: Diaľničný smerový stĺpik 1500 (pevný) biely - plastová prizmatická odrazka (R2) - biela/červená | C18: ks | D18: 50000 | F18: =D18*E18 -> 0
A19: 12 | B19: Diaľničný smerový stĺpik 1500 (pevný) biely - bikonvexná sklenená odrazka (R3) - biela/červená | C19: ks | D19: 2000 | F19: =D19*E19 -> 0
... A69: 62 | B69: Iné práce - hodinová sadzba (oprava, čistenie, servis, grafické práce,...) | C69: hod. | D69: 400 | F69: =D69*E69 -> 0
A70: Spolu | F70: =SUM(F8:F69) -> 0

Sheet Jednotkové ceny
C1: Príloha č. 2 k časti B.2 Príloha č. 2 k RD
A2: Nákup, dodanie a realizácia nových smerových stĺpikov
A4: Jednotkové ceny
A6: číslo položky | B6: názov položky | C6: merná jednotka | D6: Jednotková cena bez DPH v EUR
A7: 1 | B7: Cestný smerový stĺpik 900 (pevný) biely - retroreflexná fólia (R1) fólia tr. III - biela/červená | C7: ks | D7: ='Špecifikácia ceny'!E8 -> 0
A8: 2 | B8: Cestný smerový stĺpik 900 (pevný) biely - plastová prizmatická odrazka (R2) - biela/červená | C8: ks | D8: ='Špecifikácia ceny'!E9 -> 0
A9: 3 | B9: Cestný smerový stĺpik 900 (pevný) biely - bikonvexná sklenená odrazka (R3) - biela/červená | C9: ks | D9: ='Špecifikácia ceny'!E10 -> 0
A10: 4 | B10: Cestný smerový stĺpik 1000 (pevný) biely - retroreflexná fólia (R1) fólia tr. III - biela/červená | C10: ks | D10: ='Špecifikácia ceny'!E11 -> 0
A11: 5 | B11: Cestný smerový stĺpik 1000 (pevný) biely - plastová prizmatická odrazka (R2) - biela/červená | C11: ks | D11: ='Špecifikácia ceny'!E12 -> 0
A12: 6 | B12: Cestný smerový stĺpik 1000 (pevný) biely - bikonvexná sklenená odrazka (R3) - biela/červená | C12: ks | D12: ='Špecifikácia ceny'!E13 -> 0
A13: 7 | B13: Diaľničný smerový stĺpik 1200 (pevný) biely - retroreflexná fólia (R1) fólia tr. III - biela/červená | C13: ks | D13: ='Špecifikácia ceny'!E14 -> 0
A14: 8 | B14: Diaľničný smerový stĺpik 1200 (pevný) biely - plastová prizmatická odrazka (R2) - biela/červená | C14: ks | D14: ='Špecifikácia ceny'!E15 -> 0
A15: 9 | B15: Diaľničný smerový stĺpik 1200 (pevný) biely - bikonvexná sklenená odrazka (R3) - biela/červená | C15: ks | D15: ='Špecifikácia ceny'!E16 -> 0
A16: 10 | B16: Diaľničný smerový stĺpik 1500 (pevný) biely - retroreflexná fólia (R1) fólia tr. III - biela/červená | C16: ks | D16: ='Špecifikácia ceny'!E17 -> 0
A17: 11 | B17: Diaľničný smerový stĺpik 1500 (pevný) biely - plastová prizmatická odrazka (R2) - biela/červená | C17: ks | D17: ='Špecifikácia ceny'!E18 -> 0
A18: 12 | B18: Diaľničný smerový stĺpik 1500 (pevný) biely - bikonvexná sklenená odrazka (R3) - biela/červená | C18: ks | D18: ='Špecifikácia ceny'!E19 -> 0
... A68: 62 | B68: Iné práce - hodinová sadzba (oprava, čistenie, servis, grafické práce,...) | C68: hod. | D68: ='Špecifikácia ceny'!E69 -> 0
