Workbook

Sheet Rekapitulácia stavby
A1: Export Komplet | BA1: 2.0 | BT1: False | BU1: False | BV1: {46e95dd2-bf0d-46fd-bf14-a055ce4e3f1a}
AR2: >> skryté stĺpce << | BS2: 0,01 | BT2: 23
BS3: 0,01 | BT3: 23
D4: REKAPITULÁCIA STAVBY | AS4: v --- nižšie sa nachádzajú doplnkové a pomocné údaje k zostavám --- v | BE4: Návod na vyplnenie | BS4: 0,001
D5: Kód: | BE5: Meniť je možné iba bunky so žltým podfarbením!_x000D_ _x000D_ 1) na prvom liste Rekapitulácie stavby vyplňte v zostave_x000D_ _x000D_ a) Rekapitulácia stavby_x000D_ - údaje o Zhotoviteľovi_x000D_ (prenesú sa do ostatných zostáv aj v iných listoch)_x000D_ _x000D_ b) Rekapitulácia objektov stavby_x000D_ - potrebné Ostatné náklady_x000D_ _x000D_ 2) na vybraných listoch vyplňte v zostave_x000D_ _x000D_ a) Krycí list_x000D_ - údaje o Zhotoviteľovi, pokiaľ sa líšia od údajov o Zhotoviteľovi na Rekapitulácii stavby_x000D_ (údaje se prenesú do ostatných zostav v danom liste)_x000D_ _x000D_ b) Rekapitulácia rozpočtu_x000D_ - potrebné Ostatné náklady_x000D_ _x000D_ c) Celkové náklady za stavbu_x000D_ - ceny na položkách_x000D_ - množstvo, pokiaľ má žlté podfarbenie_x000D_ - a v prípade potreby poznámku (tá je v skrytom stĺpci) | BS5: 0,01
D6: Stavba: | K6: Gymnázium Revúca - Čiastočná rekonštrukcia bazéna (sociálne zariadenia + sprchy + vchod) | BS6: 0,01
D7: JKSO: | AK7: ČS: | BS7: 0,01
D8: Miesto: | K8: Gymnázium Martina Kukučína Revúca | AK8: Dátum: | BS8: 0,01
BS9: 0,01
D10: Objednávateľ: | AK10: IČO: | AN10: 57038830 | BS10: 0,01
E11: Gymnázium Martina Kukučína a Stredná odborná škola Revúca | AK11: IČ DPH: | BS11: 0,01
BS12: 0,01
D13: Zhotoviteľ: | AK13: IČO: | AN13: Vyplň údaj | BS13: 0,01
E14: Vyplň údaj | AK14: IČ DPH: | AN14: Vyplň údaj | BS14: 0,01
BS15: False
D16: Projektant: | AK16: IČO: | BS16: False
AK17: IČ DPH: | BS17: True
BS18: 0,01
D19: Spracovateľ: | AK19: IČO: | BS19: 0,01
AK20: IČ DPH: | BS20: True
D22: Poznámka:
D26: Cena bez DPH | AK26: =ROUND(AG94,2) -> 0
L28: Sadzba dane | W28: Základ dane | AK28: Výška dane
D29: DPH | F29: základná | L29: 0.23 | W29: =ROUND(AZ94, 2) -> 0 | AK29: =ROUND(AV94, 2) -> 0
F30: znížená | L30: 0.23 | W30: =ROUND(BA94, 2) -> 0 | AK30: =ROUND(AW94, 2) -> 0
F31: zákl. prenesená | L31: 0.23 | W31: =ROUND(BB94, 2) -> 0 | AK31: 0
F32: zníž. prenesená | L32: 0.23 | W32: =ROUND(BC94, 2) -> 0 | AK32: 0
F33: nulová | L33: 0 | W33: =ROUND(BD94, 2) -> 0 | AK33: 0
D35: Cena s DPH | T35: v | X35: EUR | AK35: =SUM(AK26:AK33) -> 0
D49: Projektant | AH49: Spracovateľ
D60: Dátum a podpis: | V60: Pečiatka | AH60: Dátum a podpis: | AM60: Pečiatka
D64: Objednávateľ | AH64: Zhotoviteľ
D75: Dátum a podpis: | V75: Pečiatka | AH75: Dátum a podpis: | AM75: Pečiatka
C82: REKAPITULÁCIA OBJEKTOV STAVBY
C84: Kód: | L84: =K5 -> 0
C85: Stavba: | L85: =K6 -> Gymnázium Revúca - Čiastočná rekonštrukcia bazéna (sociálne zariadenia + sprchy + vchod)
C87: Miesto: | L87: =IF(K8="","",K8) -> Gymnázium Martina Kukučína Revúca | AI87: Dátum: | AM87: =IF(AN8= "","",AN8)
C89: Objednávateľ: | L89: =IF(E11= "","",E11) -> Gymnázium Martina Kukučína a Stredná odborná škola Revúca | AI89: Projektant: | AM89: =IF(E17="","",E17) | AS89: Informatívne údaje z listov zákaziek
C90: Zhotoviteľ: | L90: =IF(E14= "Vyplň údaj","",E14) | AI90: Spracovateľ: | AM90: =IF(E20="","",E20)
C92: Kód | I92: Popis | AG92: Cena bez DPH [EUR] | AN92: Cena s DPH [EUR] | AQ92: Typ | AS92: z toho Ostat._x000D_ náklady [EUR] | AT92: DPH [EUR] | AU92: Normohodiny [h] | AV92: DPH základná [EUR] | AW92: DPH znížená [EUR] | AX92: DPH základná prenesená_x000D_ [EUR] | AY92: DPH znížená prenesená_x000D_ [EUR] | AZ92: Základňa_x000D_ DPH základná | BA92: Základňa_x000D_ DPH znížená | BB92: Základňa_x000D_ DPH zákl. prenesená | BC92: Základňa_x000D_ DPH zníž. prenesená | BD92: Základňa_x000D_ DPH nulová
C94: Náklady z rozpočtov | AG94: =ROUND(AG95,2) -> 0 | AN94: =SUM(AG94,AT94) -> 0 | AS94: =ROUND(AS95,2) -> 0 | AT94: =ROUND(SUM(AV94:AW94),2) -> 0 | AU94: =ROUND(AU95,5) -> #REF! | AV94: =ROUND(AZ94*L29,2) -> 0 | AW94: =ROUND(BA94*L30,2) -> 0 | AX94: =ROUND(BB94*L29,2) -> 0 | AY94: =ROUND(BC94*L30,2) -> 0 | AZ94: =ROUND(AZ95,2) -> 0 | BA94: =ROUND(BA95,2) -> 0 | BB94: =ROUND(BB95,2) -> 0 | BC94: =ROUND(BC95,2) -> 0 | BD94: =ROUND(BD95,2) -> 0 | BS94: D | BT94: 0 | BU94: ###NOIMPORT### | BV94: IMPORT | BW94: {46e95dd2-bf0d-46fd-bf14-a055ce4e3f1a} | BX94: {00000000-0000-0000-0000-000000000000}
A95: / | D95: 01 | J95: Čiastočná rekonštrukcia bazéna (sociálne zariadenia + sprchy + vchod) | AG95: ='01 - Rekonštrukcia vstupn...'!J30 -> 0 | AN95: =SUM(AG95,AT95) -> 0 | AQ95: STA | AS95: 0 | AT95: =ROUND(SUM(AV95:AW95),2) -> 0 | AU95: ='01 - Rekonštrukcia vstupn...'!P133 -> #REF! | AV95: ='01 - Rekonštrukcia vstupn...'!J33 -> 0 | AW95: ='01 - Rekonštrukcia vstupn...'!J34 -> 0 | AX95: ='01 - Rekonštrukcia vstupn...'!J35 -> 0 | AY95: ='01 - Rekonštrukcia vstupn...'!J36 -> 0 | AZ95: ='01 - Rekonštrukcia vstupn...'!F33 -> 0 | BA95: ='01 - Rekonštrukcia vstupn...'!F34 -> 0 | BB95: ='01 - Rekonštrukcia vstupn...'!F35 -> 0 | BC95: ='01 - Rekonštrukcia vstupn...'!F36 -> 0 | BD95: ='01 - Rekonštrukcia vstupn...'!F37 -> 0 | BT95: 1 | BV95: IMPORT | BW95: {50d672b9-3709-4085-a87f-8a7394729138} | BX95: {46e95dd2-bf0d-46fd-bf14-a055ce4e3f1a} | CM95: 0

Sheet 01 - Rekonštrukcia vstupn...
L2: >> skryté stĺpce << | AT2: {50d672b9-3709-4085-a87f-8a7394729138}
AT3: 0
D4: KRYCÍ LIST ROZPOČTU | M4: v --- nižšie sa nachádzajú doplnkové a pomocné údaje k zostavám --- v | AT4: False
D6: Stavba:
E7: ='Rekapitulácia stavby'!K6 -> Gymnázium Revúca - Čiastočná rekonštrukcia bazéna (sociálne zariadenia + sprchy + vchod)
D8: Objekt:
E9: 01 - Rekonštrukcia vstupnej bazénovej časti - vstup, šatne a sprchy s wc
D11: JKSO: | I11: ČS:
D12: Miesto: | F12: Gymnázium Martina Kukučína Revúca | I12: Dátum:
D14: Objednávateľ: | I14: IČO: | J14: 57038830
E15: Gymnázium Martina Kukučína a Stredná odborná škola Revúca | I15: IČ DPH:
D17: Zhotoviteľ: | I17: IČO: | J17: ='Rekapitulácia stavby'!AN13 -> Vyplň údaj
E18: ='Rekapitulácia stavby'!E14 -> Vyplň údaj | I18: IČ DPH: | J18: ='Rekapitulácia stavby'!AN14 -> Vyplň údaj
D20: Projektant: | I20: IČO: | J20: =IF('Rekapitulácia stavby'!AN16="","",'Rekapitulácia stavby'!AN16)
E21: =IF('Rekapitulácia stavby'!E17="","",'Rekapitulácia stavby'!E17) | I21: IČ DPH: | J21: =IF('Rekapitulácia stavby'!AN17="","",'Rekapitulácia stavby'!AN17)
D23: Spracovateľ: | I23: IČO: | J23: =IF('Rekapitulácia stavby'!AN19="","",'Rekapitulácia stavby'!AN19)
E24: =IF('Rekapitulácia stavby'!E20="","",'Rekapitulácia stavby'!E20) | I24: IČ DPH: | J24: =IF('Rekapitulácia stavby'!AN20="","",'Rekapitulácia stavby'!AN20)
D26: Poznámka:
D30: Cena bez DPH | J30: =ROUND(J133, 2) -> 0
F32: Základ dane | I32: Sadzba dane | J32: Výška dane
D33: DPH | E33: základná | F33: =ROUND((SUM(BE133:BE236)), 2) -> 0 | I33: 0.23 | J33: =ROUND(((SUM(BE133:BE236))*I33), 2) -> 0
E34: znížená | F34: =ROUND((SUM(BF133:BF236)), 2) -> 0 | I34: 0.23 | J34: =ROUND(((SUM(BF133:BF236))*I34), 2) -> 0
E35: zákl. prenesená | F35: =ROUND((SUM(BG133:BG236)), 2) -> 0 | I35: 0.23 | J35: =0 -> 0
E36: zníž. prenesená | F36: =ROUND((SUM(BH133:BH236)), 2) -> 0 | I36: 0.23 | J36: =0 -> 0
E37: nulová | F37: =ROUND((SUM(BI133:BI236)), 2) -> 0 | I37: 0 | J37: =0 -> 0
D39: Cena s DPH | G39: v | H39: EUR | J39: =SUM(J30:J37) -> 0
D50: Projektant | G50: Spracovateľ
D61: Dátum a podpis: | F61: Pečiatka | G61: Dátum a podpis: | J61: Pečiatka
D65: Objednávateľ | G65: Zhotoviteľ
D76: Dátum a podpis: | F76: Pečiatka | G76: Dátum a podpis: | J76: Pečiatka
C82: REKAPITULÁCIA ROZPOČTU
C84: Stavba:
E85: =E7 -> Gymnázium Revúca - Čiastočná rekonštrukcia bazéna (sociálne zariadenia + sprchy + vchod)
C86: Objekt:
E87: =E9 -> 01 - Rekonštrukcia vstupnej bazénovej časti - vstup, šatne a sprchy s wc
C89: Miesto: | F89: =F12 -> Gymnázium Martina Kukučína Revúca | I89: Dátum: | J89: =IF(J12="","",J12)
C91: Objednávateľ: | F91: =E15 -> Gymnázium Martina Kukučína a Stredná odborná škola Revúca | I91: Projektant: | J91: =E21
C92: Zhotoviteľ: | F92: =IF(E18="","",E18) -> Vyplň údaj | I92: Spracovateľ: | J92: =E24
C94: Kód dielu - Popis | J94: Cena celkom [EUR]
C96: Náklady z rozpočtu | J96: =J133 -> 0 | AU96: -1
D97: HSV - Práce a dodávky HSV | J97: =J134 -> 0
D98: 6 - Úpravy povrchov, podlahy, osadenie | J98: =J135 -> 0
D99: 9 - Ostatné konštrukcie a práce-búranie | J99: =J151 -> 0
D100: 99 - Presun hmôt HSV | J100: =J173 -> 0
D101: PSV - Práce a dodávky PSV | J101: =J175 -> 0
D102: 711 - Izolácie proti vode a vlhkosti | J102: =J176 -> 0
D103: 721 - Zdravotechnika - vnútorná kanalizácia | J103: =J181 -> 0
D104: 722 - Zdravotechnika - vnútorný vodovod | J104: =J186 -> 0
D105: 725 - Zdravotechnika - zariaďovacie predmety | J105: =J188 -> 0
D106: 761 - Konštrukcie sklobetónové | J106: =J203 -> 0
D107: 766 - Konštrukcie stolárske | J107: =J206 -> 0
D108: 771 - Podlahy z dlaždíc | J108: =J211 -> 0
D109: 781 - Obklady | J109: =J219 -> 0
D110: 783 - Nátery | J110: =J225 -> 0
D111: M - Práce a dodávky M | J111: =J227 -> 0
D112: 21-M - Elektromontáže | J112: =J228 -> 0
D113: OST - Ostatné | J113: =J233 -> 0
C120: ROZPOČET
C122: Stavba:
E123: =E7 -> Gymnázium Revúca - Čiastočná rekonštrukcia bazéna (sociálne zariadenia + sprchy + vchod)
C124: Objekt:
E125: =E9 -> 01 - Rekonštrukcia vstupnej bazénovej časti - vstup, šatne a sprchy s wc
C127: Miesto: | F127: =F12 -> Gymnázium Martina Kukučína Revúca | I127: Dátum: | J127: =IF(J12="","",J12)
C129: Objednávateľ: | F129: =E15 -> Gymnázium Martina Kukučína a Stredná odborná škola Revúca | I129: Projektant: | J129: =E21
C130: Zhotoviteľ: | F130: =IF(E18="","",E18) -> Vyplň údaj | I130: Spracovateľ: | J130: =E24
C132: PČ | D132: Typ | E132: Kód | F132: Popis | G132: MJ | H132: Množstvo | I132: J.cena [EUR] | J132: Cena celkom [EUR] | K132: Cenová sústava | N132: DPH | O132: J. Nh [h] | P132: Nh celkom [h] | Q132: J. hmotnosť [t] | R132: Hmotnosť celkom [t] | S132: J. suť [t] | T132: Suť Celkom [t]
C133: Náklady z rozpočtu | J133: =BK133 -> 0 | P133: =P134+P175+P227+P233 -> #REF! | R133: =R134+R175+R227+R233 -> #REF! | T133: =T134+T175+T227+T233 -> #REF! | AT133: D | AU133: -1 | BK133: =BK134+BK175+BK227+BK233 -> 0
D134: D | E134: HSV | F134: Práce a dodávky HSV | J134: =BK134 -> 0 | P134: =P135+P151+P173 -> 0 | R134: =R135+R151+R173 -> 9.6835981 | T134: =T135+T151+T173 -> 18.127014 | AR134: 1 | AT134: D | AU134: 0 | AY134: ROZPOCET | BK134: =BK135+BK151+BK173 -> 0
D135: D | E135: 6 | F135: Úpravy povrchov, podlahy, osadenie | J135: =BK135 -> 0 | P135: =SUM(P136:P150) -> 0 | R135: =SUM(R136:R150) -> 9.6331213 | T135: =SUM(T136:T150) -> 0 | AR135: 1 | AT135: D | AU135: 1 | AY135: ROZPOCET | BK135: =SUM(BK136:BK150) -> 0
C136: 1 | D136: K | E136: 611460124.S | F136: Príprava vnútorného podkladu stropov penetráciou pod omietky a nátery | G136: m2 | H136: 22.8 | J136: =ROUND(I136*H136,2) -> 0 | N136: znížená | P136: =O136*H136 -> 0 | Q136: 0.0004 | R136: =Q136*H136 -> 0.00912 | S136: 0 | T136: =S136*H136 -> 0 | AR136: 4 | AT136: K | AU136: 2 | AY136: ROZPOCET | BE136: =IF(N136="základná",J136,0) -> 0 | BF136: =IF(N136="znížená",J136,0) -> 0 | BG136: =IF(N136="zákl. prenesená",J136,0) -> 0 | BH136: =IF(N136="zníž. prenesená",J136,0) -> 0 | BI136: =IF(N136="nulová",J136,0) -> 0 | BJ136: 2 | BK136: =ROUND(I136*H136,2) -> 0 | BL136: 4 | BM136: -1831009193
C137: 2 | D137: K | E137: 611463052.S | F137: Vnútorná omietka stropov pastovitá silikónová roztieraná, hr. 1,5 mm | G137: m2 | H137: 22.8 | J137: =ROUND(I137*H137,2) -> 0 | N137: znížená | P137: =O137*H137 -> 0 | Q137: 0.00232 | R137: =Q137*H137 -> 0.052896 | S137: 0 | T137: =S137*H137 -> 0 | AR137: 4 | AT137: K | AU137: 2 | AY137: ROZPOCET | BE137: =IF(N137="základná",J137,0) -> 0 | BF137: =IF(N137="znížená",J137,0) -> 0 | BG137: =IF(N137="zákl. prenesená",J137,0) -> 0 | BH137: =IF(N137="zníž. prenesená",J137,0) -> 0 | BI137: =IF(N137="nulová",J137,0) -> 0 | BJ137: 2 | BK137: =ROUND(I137*H137,2) -> 0 | BL137: 4 | BM137: -408270248
C138: 3 | D138: K | E138: 611481119.S | F138: Potiahnutie vnútorných stropov sklotextilnou mriežkou s celoplošným prilepením | G138: m2 | H138: 22.8 | J138: =ROUND(I138*H138,2) -> 0 | N138: znížená | P138: =O138*H138 -> 0 | Q138: 0.005154 | R138: =Q138*H138 -> 0.1175112 | S138: 0 | T138: =S138*H138 -> 0 | AR138: 4 | AT138: K | AU138: 2 | AY138: ROZPOCET | BE138: =IF(N138="základná",J138,0) -> 0 | BF138: =IF(N138="znížená",J138,0) -> 0 | BG138: =IF(N138="zákl. prenesená",J138,0) -> 0 | BH138: =IF(N138="zníž. prenesená",J138,0) -> 0 | BI138: =IF(N138="nulová",J138,0) -> 0 | BJ138: 2 | BK138: =ROUND(I138*H138,2) -> 0 | BL138: 4 | BM138: -1985711157
C139: 4 | D139: K | E139: 612460121.S | F139: Príprava vnútorného podkladu stien penetráciou základnou | G139: m2 | H139: 91.274 | J139: =ROUND(I139*H139,2) -> 0 | N139: znížená | P139: =O139*H139 -> 0 | Q139: 0.000225 | R139: =Q139*H139 -> 0.02053665 | S139: 0 | T139: =S139*H139 -> 0 | AR139: 4 | AT139: K | AU139: 2 | AY139: ROZPOCET | BE139: =IF(N139="základná",J139,0) -> 0 | BF139: =IF(N139="znížená",J139,0) -> 0 | BG139: =IF(N139="zákl. prenesená",J139,0) -> 0 | BH139: =IF(N139="zníž. prenesená",J139,0) -> 0 | BI139: =IF(N139="nulová",J139,0) -> 0 | BJ139: 2 | BK139: =ROUND(I139*H139,2) -> 0 | BL139: 4 | BM139: 229600192
C140: 5 | D140: K | E140: 612425931.SR | F140: Vyspravenie povrchu stien omietkou po vybúraných oceľových zárubniach | G140: m | H140: 38.4 | J140: =ROUND(I140*H140,2) -> 0 | N140: znížená | P140: =O140*H140 -> 0 | Q140: 0.03756 | R140: =Q140*H140 -> 1.442304 | S140: 0 | T140: =S140*H140 -> 0 | AR140: 4 | AT140: K | AU140: 2 | AY140: ROZPOCET | BE140: =IF(N140="základná",J140,0) -> 0 | BF140: =IF(N140="znížená",J140,0) -> 0 | BG140: =IF(N140="zákl. prenesená",J140,0) -> 0 | BH140: =IF(N140="zníž. prenesená",J140,0) -> 0 | BI140: =IF(N140="nulová",J140,0) -> 0 | BJ140: 2 | BK140: =ROUND(I140*H140,2) -> 0 | BL140: 4 | BM140: -1352431048
C141: 6 | D141: K | E141: 612425931.SR1 | F141: Vyspravenie povrchu stien omietkou a obkladom po vybúráných stenách z tehál pri WC | G141: m2 | H141: 13.2 | J141: =ROUND(I141*H141,2) -> 0 | N141: znížená | P141: =O141*H141 -> 0 | Q141: 0.03756 | R141: =Q141*H141 -> 0.495792 | S141: 0 | T141: =S141*H141 -> 0 | AR141: 4 | AT141: K | AU141: 2 | AY141: ROZPOCET | BE141: =IF(N141="základná",J141,0) -> 0 | BF141: =IF(N141="znížená",J141,0) -> 0 | BG141: =IF(N141="zákl. prenesená",J141,0) -> 0 | BH141: =IF(N141="zníž. prenesená",J141,0) -> 0 | BI141: =IF(N141="nulová",J141,0) -> 0 | BJ141: 2 | BK141: =ROUND(I141*H141,2) -> 0 | BL141: 4 | BM141: 677403392
C142: 7 | D142: K | E142: 612467189R | F142: Vnútorná omietka stien jednovrstvová , strojné miešanie, ručné nanášanie, hr. do 20 mm | G142: m2 | H142: 91.274 | J142: =ROUND(I142*H142,2) -> 0 | N142: znížená | P142: =O142*H142 -> 0 | Q142: 0.02415 | R142: =Q142*H142 -> 2.2042671 | S142: 0 | T142: =S142*H142 -> 0 | AR142: 4 | AT142: K | AU142: 2 | AY142: ROZPOCET | BE142: =IF(N142="základná",J142,0) -> 0 | BF142: =IF(N142="znížená",J142,0) -> 0 | BG142: =IF(N142="zákl. prenesená",J142,0) -> 0 | BH142: =IF(N142="zníž. prenesená",J142,0) -> 0 | BI142: =IF(N142="nulová",J142,0) -> 0 | BJ142: 2 | BK142: =ROUND(I142*H142,2) -> 0 | BL142: 4 | BM142: -619397961
C143: 8 | D143: K | E143: 612467189R1 | F143: Zahadzovanie rýh po výsekoch s prehladením povrchu | G143: m | H143: 20 | J143: =ROUND(I143*H143,2) -> 0 | N143: znížená | P143: =O143*H143 -> 0 | Q143: 0.02415 | R143: =Q143*H143 -> 0.483 | S143: 0 | T143: =S143*H143 -> 0 | AR143: 4 | AT143: K | AU143: 2 | AY143: ROZPOCET | BE143: =IF(N143="základná",J143,0) -> 0 | BF143: =IF(N143="znížená",J143,0) -> 0 | BG143: =IF(N143="zákl. prenesená",J143,0) -> 0 | BH143: =IF(N143="zníž. prenesená",J143,0) -> 0 | BI143: =IF(N143="nulová",J143,0) -> 0 | BJ143: 2 | BK143: =ROUND(I143*H143,2) -> 0 | BL143: 4 | BM143: 1999015113
C144: 9 | D144: K | E144: 632001051.S | F144: Zhotovenie jednonásobného penetračného náteru pre potery a stierky | G144: m2 | H144: 133.742 | J144: =ROUND(I144*H144,2) -> 0 | N144: znížená | P144: =O144*H144 -> 0 | Q144: 0 | R144: =Q144*H144 -> 0 | S144: 0 | T144: =S144*H144 -> 0 | AR144: 4 | AT144: K | AU144: 2 | AY144: ROZPOCET | BE144: =IF(N144="základná",J144,0) -> 0 | BF144: =IF(N144="znížená",J144,0) -> 0 | BG144: =IF(N144="zákl. prenesená",J144,0) -> 0 | BH144: =IF(N144="zníž. prenesená",J144,0) -> 0 | BI144: =IF(N144="nulová",J144,0) -> 0 | BJ144: 2 | BK144: =ROUND(I144*H144,2) -> 0 | BL144: 4 | BM144: -1348469104
C145: 10 | D145: M | E145: 585520008700.S | F145: Penetračný náter na nasiakavé podklady pod potery, samonivelizačné hmoty a stavebné lepidlá | G145: kg | H145: 27.551 | J145: =ROUND(I145*H145,2) -> 0 | N145: znížená | P145: =O145*H145 -> 0 | Q145: 0.001 | R145: =Q145*H145 -> 0.027551 | S145: 0 | T145: =S145*H145 -> 0 | AR145: 8 | AT145: M | AU145: 2 | AY145: ROZPOCET | BE145: =IF(N145="základná",J145,0) -> 0 | BF145: =IF(N145="znížená",J145,0) -> 0 | BG145: =IF(N145="zákl. prenesená",J145,0) -> 0 | BH145: =IF(N145="zníž. prenesená",J145,0) -> 0 | BI145: =IF(N145="nulová",J145,0) -> 0 | BJ145: 2 | BK145: =ROUND(I145*H145,2) -> 0 | BL145: 4 | BM145: -1730254031
C146: 11 | D146: K | E146: 632452241.S | F146: Cementový poter (vhodný aj ako spádový), pevnosti v tlaku 25 MPa, hr. 10 mm | G146: m2 | H146: 34.144 | J146: =ROUND(I146*H146,2) -> 0 | N146: znížená | P146: =O146*H146 -> 0 | Q146: 0.01957 | R146: =Q146*H146 -> 0.66819808 | S146: 0 | T146: =S146*H146 -> 0 | AR146: 4 | AT146: K | AU146: 2 | AY146: ROZPOCET | BE146: =IF(N146="základná",J146,0) -> 0 | BF146: =IF(N146="znížená",J146,0) -> 0 | BG146: =IF(N146="zákl. prenesená",J146,0) -> 0 | BH146: =IF(N146="zníž. prenesená",J146,0) -> 0 | BI146: =IF(N146="nulová",J146,0) -> 0 | BJ146: 2 | BK146: =ROUND(I146*H146,2) -> 0 | BL146: 4 | BM146: -880829555
C147: 12 | D147: K | E147: 632452259.S | F147: Cementový poter (vhodný aj ako spádový), pevnosti v tlaku 25 MPa, hr. 100 mm | G147: m2 | H147: 11.1 | J147: =ROUND(I147*H147,2) -> 0 | N147: znížená | P147: =O147*H147 -> 0 | Q147: 0.1957 | R147: =Q147*H147 -> 2.17227 | S147: 0 | T147: =S147*H147 -> 0 | AR147: 4 | AT147: K | AU147: 2 | AY147: ROZPOCET | BE147: =IF(N147="základná",J147,0) -> 0 | BF147: =IF(N147="znížená",J147,0) -> 0 | BG147: =IF(N147="zákl. prenesená",J147,0) -> 0 | BH147: =IF(N147="zníž. prenesená",J147,0) -> 0 | BI147: =IF(N147="nulová",J147,0) -> 0 | BJ147: 2 | BK147: =ROUND(I147*H147,2) -> 0 | BL147: 4 | BM147: -1836088476
... C150: 15 | D150: M | E150: 553310007600.SR | F150: Zárubňa oceľová šxvxhr 600 - 800 x 1970 mm | G150: ks | H150: 8 | J150: =ROUND(I150*H150,2) -> 0 | N150: znížená | P150: =O150*H150 -> 0 | Q150: 0.011 | R150: =Q150*H150 -> 0.088 | S150: 0 | T150: =S150*H150 -> 0 | AR150: 8 | AT150: M | AU150: 2 | AY150: ROZPOCET | BE150: =IF(N150="základná",J150,0) -> 0 | BF150: =IF(N150="znížená",J150,0) -> 0 | BG150: =IF(N150="zákl. prenesená",J150,0) -> 0 | BH150: =IF(N150="zníž. prenesená",J150,0) -> 0 | BI150: =IF(N150="nulová",J150,0) -> 0 | BJ150: 2 | BK150: =ROUND(I150*H150,2) -> 0 | BL150: 4 | BM150: 9813757
D151: D | E151: 9 | F151: Ostatné konštrukcie a práce-búranie | J151: =BK151 -> 0 | P151: =SUM(P152:P172) -> 0 | R151: =SUM(R152:R172) -> 0.050476762 | T151: =SUM(T152:T172) -> 18.127014 | AR151: 1 | AT151: D | AU151: 1 | AY151: ROZPOCET | BK151: =SUM(BK152:BK172) -> 0
C152: 16 | D152: K | E152: 941955002.S | F152: Lešenie ľahké pracovné pomocné s výškou lešeňovej podlahy nad 1,20 do 1,90 m | G152: m2 | H152: 22.8 | J152: =ROUND(I152*H152,2) -> 0 | N152: znížená | P152: =O152*H152 -> 0 | Q152: 0.00192542 | R152: =Q152*H152 -> 0.043899576 | S152: 0 | T152: =S152*H152 -> 0 | AR152: 4 | AT152: K | AU152: 2 | AY152: ROZPOCET | BE152: =IF(N152="základná",J152,0) -> 0 | BF152: =IF(N152="znížená",J152,0) -> 0 | BG152: =IF(N152="zákl. prenesená",J152,0) -> 0 | BH152: =IF(N152="zníž. prenesená",J152,0) -> 0 | BI152: =IF(N152="nulová",J152,0) -> 0 | BJ152: 2 | BK152: =ROUND(I152*H152,2) -> 0 | BL152: 4 | BM152: 735631075
C153: 17 | D153: K | E153: 952901111.S | F153: Vyčistenie budov pri výške podlaží do 4 m | G153: m2 | H153: 133.742 | J153: =ROUND(I153*H153,2) -> 0 | N153: znížená | P153: =O153*H153 -> 0 | Q153: 4.9e-05 | R153: =Q153*H153 -> 0.006553358 | S153: 0 | T153: =S153*H153 -> 0 | AR153: 4 | AT153: K | AU153: 2 | AY153: ROZPOCET | BE153: =IF(N153="základná",J153,0) -> 0 | BF153: =IF(N153="znížená",J153,0) -> 0 | BG153: =IF(N153="zákl. prenesená",J153,0) -> 0 | BH153: =IF(N153="zníž. prenesená",J153,0) -> 0 | BI153: =IF(N153="nulová",J153,0) -> 0 | BJ153: 2 | BK153: =ROUND(I153*H153,2) -> 0 | BL153: 4 | BM153: 2009536523
C154: 18 | D154: K | E154: 962031137.S | F154: Búranie priečok alebo vybúranie otvorov plochy nad 4 m2 z tehál pálených dierovaných, na akúkoľvek maltu alebo penu, hr. do 115 mm, -0,102 t | G154: m2 | H154: 6.2 | J154: =ROUND(I154*H154,2) -> 0 | N154: znížená | P154: =O154*H154 -> 0 | Q154: 0 | R154: =Q154*H154 -> 0 | S154: 0.102 | T154: =S154*H154 -> 0.6324 | AR154: 4 | AT154: K | AU154: 2 | AY154: ROZPOCET | BE154: =IF(N154="základná",J154,0) -> 0 | BF154: =IF(N154="znížená",J154,0) -> 0 | BG154: =IF(N154="zákl. prenesená",J154,0) -> 0 | BH154: =IF(N154="zníž. prenesená",J154,0) -> 0 | BI154: =IF(N154="nulová",J154,0) -> 0 | BJ154: 2 | BK154: =ROUND(I154*H154,2) -> 0 | BL154: 4 | BM154: 1193189997
C155: 19 | D155: K | E155: 962042321.S | F155: Búranie muriva alebo vybúranie otvorov plochy nad 4 m2 z betónu prostého nadzákladného, -2,20000t | G155: m3 | H155: 0.17 | J155: =ROUND(I155*H155,2) -> 0 | N155: znížená | P155: =O155*H155 -> 0 | Q155: 0 | R155: =Q155*H155 -> 0 | S155: 2.2 | T155: =S155*H155 -> 0.374 | AR155: 4 | AT155: K | AU155: 2 | AY155: ROZPOCET | BE155: =IF(N155="základná",J155,0) -> 0 | BF155: =IF(N155="znížená",J155,0) -> 0 | BG155: =IF(N155="zákl. prenesená",J155,0) -> 0 | BH155: =IF(N155="zníž. prenesená",J155,0) -> 0 | BI155: =IF(N155="nulová",J155,0) -> 0 | BJ155: 2 | BK155: =ROUND(I155*H155,2) -> 0 | BL155: 4 | BM155: -2025184604
C156: 20 | D156: K | E156: 962081131.S | F156: Búranie muriva priečok zo sklenených tvárnic, hr. do 100 mm, -0,05500t | G156: m2 | H156: 13.15 | J156: =ROUND(I156*H156,2) -> 0 | N156: znížená | P156: =O156*H156 -> 0 | Q156: 0 | R156: =Q156*H156 -> 0 | S156: 0.055 | T156: =S156*H156 -> 0.72325 | AR156: 4 | AT156: K | AU156: 2 | AY156: ROZPOCET | BE156: =IF(N156="základná",J156,0) -> 0 | BF156: =IF(N156="znížená",J156,0) -> 0 | BG156: =IF(N156="zákl. prenesená",J156,0) -> 0 | BH156: =IF(N156="zníž. prenesená",J156,0) -> 0 | BI156: =IF(N156="nulová",J156,0) -> 0 | BJ156: 2 | BK156: =ROUND(I156*H156,2) -> 0 | BL156: 4 | BM156: -1328341739
C157: 21 | D157: K | E157: 965043341.S | F157: Búranie podkladov pod dlažby, liatych dlažieb a mazanín,betón s poterom,teracom hr.do 100 mm, plochy nad 4 m2 -2,20000t | G157: m3 | H157: 0.962 | J157: =ROUND(I157*H157,2) -> 0 | N157: znížená | P157: =O157*H157 -> 0 | Q157: 0 | R157: =Q157*H157 -> 0 | S157: 2.2 | T157: =S157*H157 -> 2.1164 | AR157: 4 | AT157: K | AU157: 2 | AY157: ROZPOCET | BE157: =IF(N157="základná",J157,0) -> 0 | BF157: =IF(N157="znížená",J157,0) -> 0 | BG157: =IF(N157="zákl. prenesená",J157,0) -> 0 | BH157: =IF(N157="zníž. prenesená",J157,0) -> 0 | BI157: =IF(N157="nulová",J157,0) -> 0 | BJ157: 2 | BK157: =ROUND(I157*H157,2) -> 0 | BL157: 4 | BM157: -557100895
C158: 22 | D158: K | E158: 965081712.S | F158: Búranie dlažieb, bez podklad. lôžka z xylolit., alebo keramických dlaždíc hr. do 10 mm, -0,02000t | G158: m2 | H158: 133.742 | J158: =ROUND(I158*H158,2) -> 0 | N158: znížená | P158: =O158*H158 -> 0 | Q158: 0 | R158: =Q158*H158 -> 0 | S158: 0.02 | T158: =S158*H158 -> 2.67484 | AR158: 4 | AT158: K | AU158: 2 | AY158: ROZPOCET | BE158: =IF(N158="základná",J158,0) -> 0 | BF158: =IF(N158="znížená",J158,0) -> 0 | BG158: =IF(N158="zákl. prenesená",J158,0) -> 0 | BH158: =IF(N158="zníž. prenesená",J158,0) -> 0 | BI158: =IF(N158="nulová",J158,0) -> 0 | BJ158: 2 | BK158: =ROUND(I158*H158,2) -> 0 | BL158: 4 | BM158: -2082176055
C159: 23 | D159: K | E159: 968061125.S | F159: Vyvesenie dreveného dverného krídla do suti plochy do 2 m2, -0,02400t | G159: ks | H159: 14 | J159: =ROUND(I159*H159,2) -> 0 | N159: znížená | P159: =O159*H159 -> 0 | Q159: 0 | R159: =Q159*H159 -> 0 | S159: 0.024 | T159: =S159*H159 -> 0.336 | AR159: 4 | AT159: K | AU159: 2 | AY159: ROZPOCET | BE159: =IF(N159="základná",J159,0) -> 0 | BF159: =IF(N159="znížená",J159,0) -> 0 | BG159: =IF(N159="zákl. prenesená",J159,0) -> 0 | BH159: =IF(N159="zníž. prenesená",J159,0) -> 0 | BI159: =IF(N159="nulová",J159,0) -> 0 | BJ159: 2 | BK159: =ROUND(I159*H159,2) -> 0 | BL159: 4 | BM159: 1477360804
C160: 25 | D160: K | E160: 968072455.S | F160: Vybúranie kovových dverových zárubní plochy do 2 m2, -0,07600t | G160: m2 | H160: 9.6 | J160: =ROUND(I160*H160,2) -> 0 | N160: znížená | P160: =O160*H160 -> 0 | Q160: 0 | R160: =Q160*H160 -> 0 | S160: 0.076 | T160: =S160*H160 -> 0.7296 | AR160: 4 | AT160: K | AU160: 2 | AY160: ROZPOCET | BE160: =IF(N160="základná",J160,0) -> 0 | BF160: =IF(N160="znížená",J160,0) -> 0 | BG160: =IF(N160="zákl. prenesená",J160,0) -> 0 | BH160: =IF(N160="zníž. prenesená",J160,0) -> 0 | BI160: =IF(N160="nulová",J160,0) -> 0 | BJ160: 2 | BK160: =ROUND(I160*H160,2) -> 0 | BL160: 4 | BM160: 1505197795
C161: 26 | D161: K | E161: 974031134.S | F161: Vysekanie rýh v akomkoľvek murive tehlovom na akúkoľvek maltu do hĺbky 50 mm a š. do 150 mm, -0,01300t | G161: m | H161: 20 | J161: =ROUND(I161*H161,2) -> 0 | N161: znížená | P161: =O161*H161 -> 0 | Q161: 0 | R161: =Q161*H161 -> 0 | S161: 0.013 | T161: =S161*H161 -> 0.26 | AR161: 4 | AT161: K | AU161: 2 | AY161: ROZPOCET | BE161: =IF(N161="základná",J161,0) -> 0 | BF161: =IF(N161="znížená",J161,0) -> 0 | BG161: =IF(N161="zákl. prenesená",J161,0) -> 0 | BH161: =IF(N161="zníž. prenesená",J161,0) -> 0 | BI161: =IF(N161="nulová",J161,0) -> 0 | BJ161: 2 | BK161: =ROUND(I161*H161,2) -> 0 | BL161: 4 | BM161: -1839539727
C162: 27 | D162: K | E162: 974083102.S | F162: Rezanie betónových mazanín existujúcich nevystužených hĺbky nad 50 do 100 mm | G162: m | H162: 7.4 | J162: =ROUND(I162*H162,2) -> 0 | N162: znížená | P162: =O162*H162 -> 0 | Q162: 3.22e-06 | R162: =Q162*H162 -> 2.3828e-05 | S162: 0 | T162: =S162*H162 -> 0 | AR162: 4 | AT162: K | AU162: 2 | AY162: ROZPOCET | BE162: =IF(N162="základná",J162,0) -> 0 | BF162: =IF(N162="znížená",J162,0) -> 0 | BG162: =IF(N162="zákl. prenesená",J162,0) -> 0 | BH162: =IF(N162="zníž. prenesená",J162,0) -> 0 | BI162: =IF(N162="nulová",J162,0) -> 0 | BJ162: 2 | BK162: =ROUND(I162*H162,2) -> 0 | BL162: 4 | BM162: -1226802206
C163: 28 | D163: K | E163: 978013191.S | F163: Otlčenie omietok stien vnútorných vápenných alebo vápennocementových v rozsahu do 100 %, -0,04600t | G163: m2 | H163: 91.274 | J163: =ROUND(I163*H163,2) -> 0 | N163: znížená | P163: =O163*H163 -> 0 | Q163: 0 | R163: =Q163*H163 -> 0 | S163: 0.046 | T163: =S163*H163 -> 4.198604 | AR163: 4 | AT163: K | AU163: 2 | AY163: ROZPOCET | BE163: =IF(N163="základná",J163,0) -> 0 | BF163: =IF(N163="znížená",J163,0) -> 0 | BG163: =IF(N163="zákl. prenesená",J163,0) -> 0 | BH163: =IF(N163="zníž. prenesená",J163,0) -> 0 | BI163: =IF(N163="nulová",J163,0) -> 0 | BJ163: 2 | BK163: =ROUND(I163*H163,2) -> 0 | BL163: 4 | BM163: -1556344195
... C172: 37 | D172: K | E172: 979089713.S | F172: Prenájom kontajneru 7 m3 | G172: ks | H172: 2 | J172: =ROUND(I172*H172,2) -> 0 | N172: znížená | P172: =O172*H172 -> 0 | Q172: 0 | R172: =Q172*H172 -> 0 | S172: 0 | T172: =S172*H172 -> 0 | AR172: 4 | AT172: K | AU172: 2 | AY172: ROZPOCET | BE172: =IF(N172="základná",J172,0) -> 0 | BF172: =IF(N172="znížená",J172,0) -> 0 | BG172: =IF(N172="zákl. prenesená",J172,0) -> 0 | BH172: =IF(N172="zníž. prenesená",J172,0) -> 0 | BI172: =IF(N172="nulová",J172,0) -> 0 | BJ172: 2 | BK172: =ROUND(I172*H172,2) -> 0 | BL172: 4 | BM172: 1825566611
D173: D | E173: 99 | F173: Presun hmôt HSV | J173: =BK173 -> 0 | P173: =P174 -> 0 | R173: =R174 -> 0 | T173: =T174 -> 0 | AR173: 1 | AT173: D | AU173: 1 | AY173: ROZPOCET | BK173: =BK174 -> 0
C174: 38 | D174: K | E174: 999281111.S | F174: Presun hmôt pre opravy a údržbu objektov vrátane vonkajších plášťov výšky do 25 m | G174: t | H174: 7.952 | J174: =ROUND(I174*H174,2) -> 0 | N174: znížená | P174: =O174*H174 -> 0 | Q174: 0 | R174: =Q174*H174 -> 0 | S174: 0 | T174: =S174*H174 -> 0 | AR174: 4 | AT174: K | AU174: 2 | AY174: ROZPOCET | BE174: =IF(N174="základná",J174,0) -> 0 | BF174: =IF(N174="znížená",J174,0) -> 0 | BG174: =IF(N174="zákl. prenesená",J174,0) -> 0 | BH174: =IF(N174="zníž. prenesená",J174,0) -> 0 | BI174: =IF(N174="nulová",J174,0) -> 0 | BJ174: 2 | BK174: =ROUND(I174*H174,2) -> 0 | BL174: 4 | BM174: -1712200745
D175: D | E175: PSV | F175: Práce a dodávky PSV | J175: =BK175 -> 0 | P175: =P176+P181+P186+P188+P203+P206+#REF!+P211+P219+P225 -> #REF! | R175: =R176+R181+R186+R188+R203+R206+#REF!+R211+R219+R225 -> #REF! | T175: =T176+T181+T186+T188+T203+T206+#REF!+T211+T219+T225 -> #REF! | AR175: 2 | AT175: D | AU175: 0 | AY175: ROZPOCET | BK175: =BK176+BK181+BK186+BK188+BK203+BK206+BK211+BK219+BK225 -> 0
D176: D | E176: 711 | F176: Izolácie proti vode a vlhkosti | J176: =BK176 -> 0 | P176: =SUM(P177:P180) -> 0 | R176: =SUM(R177:R180) -> 0.583744 | T176: =SUM(T177:T180) -> 0 | AR176: 2 | AT176: D | AU176: 1 | AY176: ROZPOCET | BK176: =SUM(BK177:BK180) -> 0
...
